{"text_format":"1","workbook":"xlsx","n_sheets":6,"sheets":["Settings","Aktivera makron","Lösenordssida","Foderstatsberäkning Lamm","Data","Fodermedelstabell"],"not_rendered":{"charts":0,"images":2,"macros":1,"external_links":0,"defined_names":9,"comments":1,"pivot_tables":0},"unopened":[],"bounds":{"document_bytes":16777216,"sheet_cells":100000,"rows_first":2000,"rows_last":500,"rows_between":2000,"halvings":0,"cell_chars":16384,"cell_head_chars":4096},"cells_cut":0,"cells_raw":0,"read":"whole","date_system":"1900"}

{"sheet":"Settings","index":0,"n_rows":33,"n_cols":5,"rows_kept":33,"cut":false,"hidden":true,"merged":[[26,1,27,2],[32,1,33,2],[21,1,22,2]]}
[]
[null,"ActiveSheet on save","Foderstatsberäkning Lamm"]
[null,"Save events on",true,null,"Styr så att arbetsboken inte kan sparas utan att dölja alla blad och visa splash-skärmen"]
[null,"Open events on",true,null,"Styr så att splashskärmen döljs, alla andra blad visas och licens kontrolleras"]
[]
[null,"Makroversion","2022-04-26",null,"Version på makrona från SPVK Konsult AB"]
[]
[null,"Licensdatum","2024-12-31",null,"Efter detta datum kommer alla flikar att skrivskyddas"]
[]
[null,"Licensägare",{"$f":"Lösenordssida!A2","v":"Branchutvecklingspeng"},null,"Fyll i namn/företag. Kommer användas i licensmeddelande när man öppnar filen och aktiverar makron."]
[]
[null,"Lösenord","0000",null,"Tillämpas för att skydda blad och arbetsboksstruktur"]
[]
[]
[]
[]
[]
[]
[]
[null,"Licensmeddelande:"]
[]
[null,{"$f":"\"Denna fil är licensierad till \"&LicOwner&\" till och med \"&TEXT(LicDate,\"ÅÅÅÅ-MM-DD\")&\".\"","v":"Denna fil är licensierad till Branchutvecklingspeng till och med 2024-12-31."},null,null,"Visas när filen öppnas om makron är aktiverade."]
[]
[]
[null,"Meddelande när licensdatum passerats:"]
[]
[null,"Licensen har gått ut. Du kan fortfarande komma åt din data och skriva ut den - men allt innehåll är skrivskyddat och du kan inte spara ändringar. Vänligen kontakta oss för att låsa upp filen.",null,null,"Texten till vänster kommer att visas i en meddelanderuta tillsammans med licensdatumet."]
[]
[]
[]
[null,"Varningsmeddelande (ges när filen öppnas och det är mindre än 1 månad kvar till licensen går ut):"]
[]
[null,"Licensen går snart ut! Du kommer fortfarande att komma åt din data efter att datumet passerats för att till exempel skriva ut den - men allt innehåll blir då skrivskyddat och du kommer inte kunna spara ändringar. Vänligen maila oss filen för att förlänga licensen.",null,null,"Texten till vänster kommer att visas i en meddelanderuta tillsammans med licensdatumet."]

{"sheet":"Aktivera makron","index":1,"n_rows":13,"n_cols":15,"rows_kept":13,"cut":false,"hidden":false,"merged":[[8,2,8,13]]}
[]
[]
[]
[]
[]
[]
[null,null,"Du behöver aktivera makron för att komma åt innehållet i denna fil."]
[]
[null,null,"Här finns hjälp hur du gör detta."]
[]
[null,null,"(När makron aktiveras så försvinner denna bild och innehållet i filen visas)",null,null,null,null,null,null,null,null,null,null,null,{"$f":"Lösenordssida!$C$2","v":"Theo den Braver, Gård & Djurhälsan"}]
[null,null,null,null,null,null,null,null,null,null,null,null,null,null,{"$f":"Lösenordssida!$C$3","v":"theo.denbraver@gardochdjurhalsan.se"}]
[null,null,null,null,null,null,null,null,null,null,null,null,null,null,{"$f":"Lösenordssida!$C$4","v":"070-3933089"}]

{"sheet":"Lösenordssida","index":2,"n_rows":4,"n_cols":3,"rows_kept":4,"cut":false,"hidden":true,"merged":[]}
[null,null,"Grunduppgifter Rådgivare"]
["Branchutvecklingspeng",null,"Theo den Braver, Gård & Djurhälsan"]
[null,null,"theo.denbraver@gardochdjurhalsan.se"]
[null,null,"070-3933089"]

{"sheet":"Foderstatsberäkning Lamm","index":3,"n_rows":42,"n_cols":30,"rows_kept":42,"cut":false,"hidden":true,"merged":[[33,7,33,8],[33,13,33,14],[33,19,33,20],[33,25,33,26],[2,9,2,10],[3,9,3,10],[4,9,4,10],[5,9,5,10]]}
["Foderberäkningsprogram för växande Lamm. Finansierat av Branchutvecklingspengar 2022."]
["De mörgröna cellerna är redigerbara, fyll i värden som grund för beräkningen.",null,null,null,null,null,"Växande lamm",null,null,"Aktuell Vikt",null,null,"Konc","Kons","Energi","AAT","Ca","P","K","Mg","E-Vit","Na","S","Se","Cu","Co","Mo","Fe","Mn","Zn"]
["Du ljusbruna cellerna skapa resultat av beräkningarna",null,null,null,null,null,"Viktgrp 15-25 kg Medel 20 kg",null,null,"g/dag  (100-400) ",null,0,{"$f":"IF(L3=\"\",\"\",VLOOKUP(L3,Data!$B$9:$T$16,3,FALSE))","v":0},{"$f":"IF(L3=\"\",\"\",VLOOKUP(L3,Data!$B$9:$T$16,2,FALSE))","v":0},{"$f":"IF(L3=\"\",\"\",VLOOKUP(L3,Data!$B$9:$T$16,4,FALSE))","v":0},{"$f":"IF(L3=\"\",\"\",VLOOKUP(L3,Data!$B$9:$T$16,5,FALSE))","v":0},{"$f":"IF(L3=\"\",\"\",VLOOKUP(L3,Data!$B$9:$T$16,6,FALSE))","v":0},{"$f":"IF(L3=\"\",\"\",VLOOKUP(L3,Data!$B$9:$T$16,7,FALSE))","v":0},{"$f":"IF(L3=\"\",\"\",VLOOKUP(L3,Data!$B$9:$T$16,8,FALSE))","v":0},{"$f":"IF(L3=\"\",\"\",VLOOKUP(L3,Data!$B$9:$T$16,9,FALSE))","v":0},{"$f":"IF(L3=\"\",\"\",VLOOKUP(L3,Data!$B$9:$T$16,10,FALSE))","v":0},{"$f":"IF(L3=\"\",\"\",VLOOKUP(L3,Data!$B$9:$T$16,11,FALSE))","v":0},{"$f":"IF(L3=\"\",\"\",VLOOKUP(L3,Data!$B$9:$T$16,12,FALSE))","v":0},{"$f":"IF(L3=\"\",\"\",VLOOKUP(L3,Data!$B$9:$T$16,13,FALSE))","v":0},{"$f":"IF(L3=\"\",\"\",VLOOKUP(L3,Data!$B$9:$T$16,14,FALSE))","v":0},{"$f":"IF(L3=\"\",\"\",VLOOKUP(L3,Data!$B$9:$T$16,15,FALSE))","v":0},{"$f":"IF(L3=\"\",\"\",VLOOKUP(L3,Data!$B$9:$T$16,16,FALSE))","v":0},{"$f":"IF(L3=\"\",\"\",VLOOKUP(L3,Data!$B$9:$T$16,17,FALSE))","v":0},{"$f":"IF(L3=\"\",\"\",VLOOKUP(L3,Data!$B$9:$T$16,18,FALSE))","v":0},{"$f":"IF(L3=\"\",\"\",VLOOKUP(L3,Data!$B$9:$T$16,19,FALSE))","v":0}]
["I de gråa fälten hittar du behovsnormer och analysvärden för fodermedel",null,null,null,null,null,"Viktgrp 25-35 kg Medel 30 kg",null,null,"g/dag  (200-500)",null,0,{"$f":"IF(L4=\"\",\"\",VLOOKUP(L4,Data!$B$18:$T$96025,3,FALSE))","v":0},{"$f":"IF(L4=\"\",\"\",VLOOKUP(L4,Data!$B$18:$T$96025,2,FALSE))","v":0},{"$f":"IF(L4=\"\",\"\",VLOOKUP(L4,Data!$B$18:$T$96025,4,FALSE))","v":0},{"$f":"IF(L4=\"\",\"\",VLOOKUP(L4,Data!$B$18:$T$96025,5,FALSE))","v":0},{"$f":"IF(L4=\"\",\"\",VLOOKUP(L4,Data!$B$18:$T$96025,6,FALSE))","v":0},{"$f":"IF(L4=\"\",\"\",VLOOKUP(L4,Data!$B$18:$T$96025,7,FALSE))","v":0},{"$f":"IF(L4=\"\",\"\",VLOOKUP(L4,Data!$B$18:$T$96025,8,FALSE))","v":0},{"$f":"IF(L4=\"\",\"\",VLOOKUP(L4,Data!$B$18:$T$96025,9,FALSE))","v":0},{"$f":"IF(L4=\"\",\"\",VLOOKUP(L4,Data!$B$18:$T$96025,10,FALSE))","v":0},{"$f":"IF(L4=\"\",\"\",VLOOKUP(L4,Data!$B$18:$T$96025,11,FALSE))","v":0},{"$f":"IF(L4=\"\",\"\",VLOOKUP(L4,Data!$B$18:$T$96025,12,FALSE))","v":0},{"$f":"IF(L4=\"\",\"\",VLOOKUP(L4,Data!$B$18:$T$96025,13,FALSE))","v":0},{"$f":"IF(L4=\"\",\"\",VLOOKUP(L4,Data!$B$18:$T$96025,14,FALSE))","v":0},{"$f":"IF(L4=\"\",\"\",VLOOKUP(L4,Data!$B$18:$T$96025,15,FALSE))","v":0},{"$f":"IF(L4=\"\",\"\",VLOOKUP(L4,Data!$B$18:$T$96025,16,FALSE))","v":0},{"$f":"IF(L4=\"\",\"\",VLOOKUP(L4,Data!$B$18:$T$96025,17,FALSE))","v":0},{"$f":"IF(L4=\"\",\"\",VLOOKUP(L4,Data!$B$18:$T$96025,18,FALSE))","v":0},{"$f":"IF(L4=\"\",\"\",VLOOKUP(L4,Data!$B$18:$T$96025,19,FALSE))","v":0}]
["Arbetsgång",null,null,null,null,null,"Viktgrp 35-45 kg medel 40 kg",null,null,"g/dag  (200-500)",null,0,{"$f":"IF(L5=\"\",\"\",VLOOKUP(L5,Data!$B$27:$T$34,3,FALSE))","v":0},{"$f":"IF(L5=\"\",\"\",VLOOKUP(L5,Data!$B$27:$T$34,2,FALSE))","v":0},{"$f":"IF(L5=\"\",\"\",VLOOKUP(L5,Data!$B$27:$T$34,4,FALSE))","v":0},{"$f":"IF(L5=\"\",\"\",VLOOKUP(L5,Data!$B$27:$T$34,5,FALSE))","v":0},{"$f":"IF(L5=\"\",\"\",VLOOKUP(L5,Data!$B$27:$T$34,6,FALSE))","v":0},{"$f":"IF(L5=\"\",\"\",VLOOKUP(L5,Data!$B$27:$T$34,7,FALSE))","v":0},{"$f":"IF(L5=\"\",\"\",VLOOKUP(L5,Data!$B$27:$T$34,8,FALSE))","v":0},{"$f":"IF(L5=\"\",\"\",VLOOKUP(L5,Data!$B$27:$T$34,9,FALSE))","v":0},{"$f":"IF(L5=\"\",\"\",VLOOKUP(L5,Data!$B$27:$T$34,10,FALSE))","v":0},{"$f":"IF(L5=\"\",\"\",VLOOKUP(L5,Data!$B$27:$T$34,11,FALSE))","v":0},{"$f":"IF(L5=\"\",\"\",VLOOKUP(L5,Data!$B$27:$T$34,12,FALSE))","v":0},{"$f":"IF(L5=\"\",\"\",VLOOKUP(L5,Data!$B$27:$T$34,13,FALSE))","v":0},{"$f":"IF(L5=\"\",\"\",VLOOKUP(L5,Data!$B$27:$T$34,14,FALSE))","v":0},{"$f":"IF(L5=\"\",\"\",VLOOKUP(L5,Data!$B$27:$T$34,15,FALSE))","v":0},{"$f":"IF(L5=\"\",\"\",VLOOKUP(L5,Data!$B$27:$T$34,16,FALSE))","v":0},{"$f":"IF(L5=\"\",\"\",VLOOKUP(L5,Data!$B$27:$T$34,17,FALSE))","v":0},{"$f":"IF(L5=\"\",\"\",VLOOKUP(L5,Data!$B$27:$T$34,18,FALSE))","v":0},{"$f":"IF(L5=\"\",\"\",VLOOKUP(L5,Data!$B$27:$T$34,19,FALSE))","v":0}]
["1.Fyll i aktuell genomsnittsvikt för utfodringsgruppen",null,null,null,null,null,"Viktgrp 45-55 kg Medel 50 kg",null,null,"g/dag  (200-500)",null,0,{"$f":"IF(L6=\"\",\"\",VLOOKUP(L6,Data!$B$36:$T$43,3,FALSE))","v":0},{"$f":"IF(L6=\"\",\"\",VLOOKUP(L6,Data!$B$36:$T$43,2,FALSE))","v":0},{"$f":"IF(L6=\"\",\"\",VLOOKUP(L6,Data!$B$36:$T$43,4,FALSE))","v":0},{"$f":"IF(L6=\"\",\"\",VLOOKUP(L6,Data!$B$36:$T$43,5,FALSE))","v":0},{"$f":"IF(L6=\"\",\"\",VLOOKUP(L6,Data!$B$36:$T$43,6,FALSE))","v":0},{"$f":"IF(L6=\"\",\"\",VLOOKUP(L6,Data!$B$36:$T$43,7,FALSE))","v":0},{"$f":"IF(L6=\"\",\"\",VLOOKUP(L6,Data!$B$36:$T$43,8,FALSE))","v":0},{"$f":"IF(L6=\"\",\"\",VLOOKUP(L6,Data!$B$36:$T$43,9,FALSE))","v":0},{"$f":"IF(L6=\"\",\"\",VLOOKUP(L6,Data!$B$36:$T$43,10,FALSE))","v":0},{"$f":"IF(L6=\"\",\"\",VLOOKUP(L6,Data!$B$36:$T$43,11,FALSE))","v":0},{"$f":"IF(L6=\"\",\"\",VLOOKUP(L6,Data!$B$36:$T$43,12,FALSE))","v":0},{"$f":"IF(L6=\"\",\"\",VLOOKUP(L6,Data!$B$36:$T$43,13,FALSE))","v":0},{"$f":"IF(L6=\"\",\"\",VLOOKUP(L6,Data!$B$36:$T$43,14,FALSE))","v":0},{"$f":"IF(L6=\"\",\"\",VLOOKUP(L6,Data!$B$36:$T$43,15,FALSE))","v":0},{"$f":"IF(L6=\"\",\"\",VLOOKUP(L6,Data!$B$36:$T$43,16,FALSE))","v":0},{"$f":"IF(L6=\"\",\"\",VLOOKUP(L6,Data!$B$36:$T$43,17,FALSE))","v":0},{"$f":"IF(L6=\"\",\"\",VLOOKUP(L6,Data!$B$36:$T$43,18,FALSE))","v":0},{"$f":"IF(L6=\"\",\"\",VLOOKUP(L6,Data!$B$36:$T$43,19,FALSE))","v":0}]
["2, Fyll i planerad tillväxt för aktuell viktgrupp",null,null,null,null,null,null,null,null,null,null,0,"Normer för växande lamm NRC 2007 Sammanställt samt estimerat av Theo den Braver"]
["3. fyll i antal djur"]
["4.Fyll i antal planerade dagar i gruppen"]
["5. Ange fodermedelsnummer för ingående fodermedel, se flik \"Fodermedelstabell\""]
["6. Beräkna: Målet är 100-120 % på Mj och AAT med rätt konsumtions mängd",null,null,null,null,null,"Antal Djur",null,null,null,"st",null,{"$f":"SUM(M3:M10)","v":0},0,0,0,0,0,0,0,0,0,0,0,0,0,0,0,0,0]
["7. Tryck ctrl + P för utskrift",null,null,null,null,null,"Tid i aktuell viktgrupp",null,{"$f":"10/((L3+L4+L5+L6)/1000)","v":{"$error":"#DIV/0!"}},"Dagar",null,null,"Dagar"]
[null,{"$f":"G2","v":"Växande lamm"}]
[]
[null,"Tot kg i Perioden","Tot kg i Besättningen","Giva kgts/dag","Giva kg/dag","Namn                                                                                        FODERMEDEL","Foder nummer",{"$f":"Fodermedelstabell!D2","v":"Pris kr/kgts"},{"$f":"Fodermedelstabell!E2","v":"Ts %"},{"$f":"Fodermedelstabell!F2","v":"Energi MJ/kgts"},{"$f":"Fodermedelstabell!G2","v":"Råprot\nRp/kgts"},{"$f":"Fodermedelstabell!H2","v":"NDF \ng/kgts"},{"$f":"Fodermedelstabell!I2","v":"AAT g/kgts"},{"$f":"Fodermedelstabell!J2","v":"PBV g/kgts"},{"$f":"Fodermedelstabell!K2","v":"Stärk g/kgts"},{"$f":"Fodermedelstabell!L2","v":"Råfett g/kgts"},{"$f":"Fodermedelstabell!M2","v":"Ca\ng/kgts"},{"$f":"Fodermedelstabell!N2","v":"P\ng/kgts"},{"$f":"Fodermedelstabell!O2","v":"K\ng/kgts"},{"$f":"Fodermedelstabell!P2","v":"Mg\ng/kgts"},{"$f":"Fodermedelstabell!Q2","v":"E vit g/kgts"},{"$f":"Fodermedelstabell!R2","v":"Na\ng/kgts"},{"$f":"Fodermedelstabell!S2","v":"S\ng/kgts"},{"$f":"Fodermedelstabell!T2","v":"Se\nmg/kgts"},{"$f":"Fodermedelstabell!U2","v":"Cu mg/kgts"},{"$f":"Fodermedelstabell!V2","v":"Co\nmg/kgts"},{"$f":"Fodermedelstabell!W2","v":"Mo\nmg/kgts"},{"$f":"Fodermedelstabell!X2","v":"Fe\nmg/kgts"},{"$f":"Fodermedelstabell!Y2","v":"Mn \nmg/kgts"},{"$f":"Fodermedelstabell!Z2","v":"Zn mg/kgts"}]
[null,{"$f":"C16*$L12","v":0},{"$f":"E16*$L11","v":0},{"$f":"IF(E16=0,0,I16*E16/100)","v":0},0,{"$f":"IF($G16=\"\",\"\",VLOOKUP($G16,Fodermedelstabell!$A$2:$Z$447,2,FALSE))","v":0},0,{"$f":"IF($G16=\"\",\"\",VLOOKUP($G16,Fodermedelstabell!$A$2:$Z$447,4,FALSE))","v":0},{"$f":"IF($G16=\"\",\"\",VLOOKUP($G16,Fodermedelstabell!$A$2:$Z$447,5,FALSE))","v":0},{"$f":"IF($G16=\"\",\"\",VLOOKUP($G16,Fodermedelstabell!$A$2:$Z$447,6,FALSE))","v":0},{"$f":"IF($G16=\"\",\"\",VLOOKUP($G16,Fodermedelstabell!$A$2:$Z$447,7,FALSE))","v":0},{"$f":"IF($G16=\"\",\"\",VLOOKUP($G16,Fodermedelstabell!$A$2:$Z$447,8,FALSE))","v":0},{"$f":"IF($G16=\"\",\"\",VLOOKUP($G16,Fodermedelstabell!$A$2:$Z$447,9,FALSE))","v":0},{"$f":"IF($G16=\"\",\"\",VLOOKUP($G16,Fodermedelstabell!$A$2:$Z$447,10,FALSE))","v":0},{"$f":"IF($G16=\"\",\"\",VLOOKUP($G16,Fodermedelstabell!$A$2:$Z$447,11,FALSE))","v":0},{"$f":"IF($G16=\"\",\"\",VLOOKUP($G16,Fodermedelstabell!$A$2:$Z$447,12,FALSE))","v":0},{"$f":"IF($G16=\"\",\"\",VLOOKUP($G16,Fodermedelstabell!$A$2:$Z$447,13,FALSE))","v":0},{"$f":"IF($G16=\"\",\"\",VLOOKUP($G16,Fodermedelstabell!$A$2:$Z$447,14,FALSE))","v":0},{"$f":"IF($G16=\"\",\"\",VLOOKUP($G16,Fodermedelstabell!$A$2:$Z$447,15,FALSE))","v":0},{"$f":"IF($G16=\"\",\"\",VLOOKUP($G16,Fodermedelstabell!$A$2:$Z$447,16,FALSE))","v":0},{"$f":"IF($G16=\"\",\"\",VLOOKUP($G16,Fodermedelstabell!$A$2:$Z$447,17,FALSE))","v":0},{"$f":"IF($G16=\"\",\"\",VLOOKUP($G16,Fodermedelstabell!$A$2:$Z$447,18,FALSE))","v":0},{"$f":"IF($G16=\"\",\"\",VLOOKUP($G16,Fodermedelstabell!$A$2:$Z$447,19,FALSE))","v":0},{"$f":"IF($G16=\"\",\"\",VLOOKUP($G16,Fodermedelstabell!$A$2:$Z$447,20,FALSE))","v":0},{"$f":"IF($G16=\"\",\"\",VLOOKUP($G16,Fodermedelstabell!$A$2:$Z$447,21,FALSE))","v":0},{"$f":"IF($G16=\"\",\"\",VLOOKUP($G16,Fodermedelstabell!$A$2:$Z$447,22,FALSE))","v":0},{"$f":"IF($G16=\"\",\"\",VLOOKUP($G16,Fodermedelstabell!$A$2:$Z$447,23,FALSE))","v":0},{"$f":"IF($G16=\"\",\"\",VLOOKUP($G16,Fodermedelstabell!$A$2:$Z$447,24,FALSE))","v":0},{"$f":"IF($G16=\"\",\"\",VLOOKUP($G16,Fodermedelstabell!$A$2:$Z$447,25,FALSE))","v":0},{"$f":"IF($G16=\"\",\"\",VLOOKUP($G16,Fodermedelstabell!$A$2:$Z$447,26,FALSE))","v":0}]
[null,{"$f":"C17*$L12","v":0},{"$f":"E17*$L11","v":0},0,0,{"$f":"IF($G17=\"\",\"\",VLOOKUP($G17,Fodermedelstabell!$A$2:$Z$447,2,FALSE))","v":0},0,{"$f":"IF($G17=\"\",\"\",VLOOKUP($G17,Fodermedelstabell!$A$2:$Z$447,4,FALSE))","v":0},{"$f":"IF($G17=\"\",\"\",VLOOKUP($G17,Fodermedelstabell!$A$2:$Z$447,5,FALSE))","v":0},{"$f":"IF($G17=\"\",\"\",VLOOKUP($G17,Fodermedelstabell!$A$2:$Z$447,6,FALSE))","v":0},{"$f":"IF($G17=\"\",\"\",VLOOKUP($G17,Fodermedelstabell!$A$2:$Z$447,7,FALSE))","v":0},{"$f":"IF($G17=\"\",\"\",VLOOKUP($G17,Fodermedelstabell!$A$2:$Z$447,8,FALSE))","v":0},{"$f":"IF($G17=\"\",\"\",VLOOKUP($G17,Fodermedelstabell!$A$2:$Z$447,9,FALSE))","v":0},{"$f":"IF($G17=\"\",\"\",VLOOKUP($G17,Fodermedelstabell!$A$2:$Z$447,10,FALSE))","v":0},{"$f":"IF($G17=\"\",\"\",VLOOKUP($G17,Fodermedelstabell!$A$2:$Z$447,11,FALSE))","v":0},{"$f":"IF($G17=\"\",\"\",VLOOKUP($G17,Fodermedelstabell!$A$2:$Z$447,12,FALSE))","v":0},{"$f":"IF($G17=\"\",\"\",VLOOKUP($G17,Fodermedelstabell!$A$2:$Z$447,13,FALSE))","v":0},{"$f":"IF($G17=\"\",\"\",VLOOKUP($G17,Fodermedelstabell!$A$2:$Z$447,14,FALSE))","v":0},{"$f":"IF($G17=\"\",\"\",VLOOKUP($G17,Fodermedelstabell!$A$2:$Z$447,15,FALSE))","v":0},{"$f":"IF($G17=\"\",\"\",VLOOKUP($G17,Fodermedelstabell!$A$2:$Z$447,16,FALSE))","v":0},{"$f":"IF($G17=\"\",\"\",VLOOKUP($G17,Fodermedelstabell!$A$2:$Z$447,17,FALSE))","v":0},{"$f":"IF($G17=\"\",\"\",VLOOKUP($G17,Fodermedelstabell!$A$2:$Z$447,18,FALSE))","v":0},{"$f":"IF($G17=\"\",\"\",VLOOKUP($G17,Fodermedelstabell!$A$2:$Z$447,19,FALSE))","v":0},{"$f":"IF($G17=\"\",\"\",VLOOKUP($G17,Fodermedelstabell!$A$2:$Z$447,20,FALSE))","v":0},{"$f":"IF($G17=\"\",\"\",VLOOKUP($G17,Fodermedelstabell!$A$2:$Z$447,21,FALSE))","v":0},{"$f":"IF($G17=\"\",\"\",VLOOKUP($G17,Fodermedelstabell!$A$2:$Z$447,22,FALSE))","v":0},{"$f":"IF($G17=\"\",\"\",VLOOKUP($G17,Fodermedelstabell!$A$2:$Z$447,23,FALSE))","v":0},{"$f":"IF($G17=\"\",\"\",VLOOKUP($G17,Fodermedelstabell!$A$2:$Z$447,24,FALSE))","v":0},{"$f":"IF($G17=\"\",\"\",VLOOKUP($G17,Fodermedelstabell!$A$2:$Z$447,25,FALSE))","v":0},{"$f":"IF($G17=\"\",\"\",VLOOKUP($G17,Fodermedelstabell!$A$2:$Z$447,26,FALSE))","v":0}]
[null,{"$f":"C18*$L12","v":0},{"$f":"E18*$L11","v":0},0,null,{"$f":"IF($G18=\"\",\"\",VLOOKUP($G18,Fodermedelstabell!$A$2:$Z$447,2,FALSE))","v":0},0,{"$f":"IF($G18=\"\",\"\",VLOOKUP($G18,Fodermedelstabell!$A$2:$Z$447,4,FALSE))","v":0},{"$f":"IF($G18=\"\",\"\",VLOOKUP($G18,Fodermedelstabell!$A$2:$Z$447,5,FALSE))","v":0},{"$f":"IF($G18=\"\",\"\",VLOOKUP($G18,Fodermedelstabell!$A$2:$Z$447,6,FALSE))","v":0},{"$f":"IF($G18=\"\",\"\",VLOOKUP($G18,Fodermedelstabell!$A$2:$Z$447,7,FALSE))","v":0},{"$f":"IF($G18=\"\",\"\",VLOOKUP($G18,Fodermedelstabell!$A$2:$Z$447,8,FALSE))","v":0},{"$f":"IF($G18=\"\",\"\",VLOOKUP($G18,Fodermedelstabell!$A$2:$Z$447,9,FALSE))","v":0},{"$f":"IF($G18=\"\",\"\",VLOOKUP($G18,Fodermedelstabell!$A$2:$Z$447,10,FALSE))","v":0},{"$f":"IF($G18=\"\",\"\",VLOOKUP($G18,Fodermedelstabell!$A$2:$Z$447,11,FALSE))","v":0},{"$f":"IF($G18=\"\",\"\",VLOOKUP($G18,Fodermedelstabell!$A$2:$Z$447,12,FALSE))","v":0},{"$f":"IF($G18=\"\",\"\",VLOOKUP($G18,Fodermedelstabell!$A$2:$Z$447,13,FALSE))","v":0},{"$f":"IF($G18=\"\",\"\",VLOOKUP($G18,Fodermedelstabell!$A$2:$Z$447,14,FALSE))","v":0},{"$f":"IF($G18=\"\",\"\",VLOOKUP($G18,Fodermedelstabell!$A$2:$Z$447,15,FALSE))","v":0},{"$f":"IF($G18=\"\",\"\",VLOOKUP($G18,Fodermedelstabell!$A$2:$Z$447,16,FALSE))","v":0},{"$f":"IF($G18=\"\",\"\",VLOOKUP($G18,Fodermedelstabell!$A$2:$Z$447,17,FALSE))","v":0},{"$f":"IF($G18=\"\",\"\",VLOOKUP($G18,Fodermedelstabell!$A$2:$Z$447,18,FALSE))","v":0},{"$f":"IF($G18=\"\",\"\",VLOOKUP($G18,Fodermedelstabell!$A$2:$Z$447,19,FALSE))","v":0},{"$f":"IF($G18=\"\",\"\",VLOOKUP($G18,Fodermedelstabell!$A$2:$Z$447,20,FALSE))","v":0},{"$f":"IF($G18=\"\",\"\",VLOOKUP($G18,Fodermedelstabell!$A$2:$Z$447,21,FALSE))","v":0},{"$f":"IF($G18=\"\",\"\",VLOOKUP($G18,Fodermedelstabell!$A$2:$Z$447,22,FALSE))","v":0},{"$f":"IF($G18=\"\",\"\",VLOOKUP($G18,Fodermedelstabell!$A$2:$Z$447,23,FALSE))","v":0},{"$f":"IF($G18=\"\",\"\",VLOOKUP($G18,Fodermedelstabell!$A$2:$Z$447,24,FALSE))","v":0},{"$f":"IF($G18=\"\",\"\",VLOOKUP($G18,Fodermedelstabell!$A$2:$Z$447,25,FALSE))","v":0},{"$f":"IF($G18=\"\",\"\",VLOOKUP($G18,Fodermedelstabell!$A$2:$Z$447,26,FALSE))","v":0}]
[null,{"$f":"C19*$L12","v":0},{"$f":"E19*$L11","v":0},0,null,{"$f":"IF($G19=\"\",\"\",VLOOKUP($G19,Fodermedelstabell!$A$2:$Z$447,2,FALSE))","v":0},0,{"$f":"IF($G19=\"\",\"\",VLOOKUP($G19,Fodermedelstabell!$A$2:$Z$447,4,FALSE))","v":0},{"$f":"IF($G19=\"\",\"\",VLOOKUP($G19,Fodermedelstabell!$A$2:$Z$447,5,FALSE))","v":0},{"$f":"IF($G19=\"\",\"\",VLOOKUP($G19,Fodermedelstabell!$A$2:$Z$447,6,FALSE))","v":0},{"$f":"IF($G19=\"\",\"\",VLOOKUP($G19,Fodermedelstabell!$A$2:$Z$447,7,FALSE))","v":0},{"$f":"IF($G19=\"\",\"\",VLOOKUP($G19,Fodermedelstabell!$A$2:$Z$447,8,FALSE))","v":0},{"$f":"IF($G19=\"\",\"\",VLOOKUP($G19,Fodermedelstabell!$A$2:$Z$447,9,FALSE))","v":0},{"$f":"IF($G19=\"\",\"\",VLOOKUP($G19,Fodermedelstabell!$A$2:$Z$447,10,FALSE))","v":0},{"$f":"IF($G19=\"\",\"\",VLOOKUP($G19,Fodermedelstabell!$A$2:$Z$447,11,FALSE))","v":0},{"$f":"IF($G19=\"\",\"\",VLOOKUP($G19,Fodermedelstabell!$A$2:$Z$447,12,FALSE))","v":0},{"$f":"IF($G19=\"\",\"\",VLOOKUP($G19,Fodermedelstabell!$A$2:$Z$447,13,FALSE))","v":0},{"$f":"IF($G19=\"\",\"\",VLOOKUP($G19,Fodermedelstabell!$A$2:$Z$447,14,FALSE))","v":0},{"$f":"IF($G19=\"\",\"\",VLOOKUP($G19,Fodermedelstabell!$A$2:$Z$447,15,FALSE))","v":0},{"$f":"IF($G19=\"\",\"\",VLOOKUP($G19,Fodermedelstabell!$A$2:$Z$447,16,FALSE))","v":0},{"$f":"IF($G19=\"\",\"\",VLOOKUP($G19,Fodermedelstabell!$A$2:$Z$447,17,FALSE))","v":0},{"$f":"IF($G19=\"\",\"\",VLOOKUP($G19,Fodermedelstabell!$A$2:$Z$447,18,FALSE))","v":0},{"$f":"IF($G19=\"\",\"\",VLOOKUP($G19,Fodermedelstabell!$A$2:$Z$447,19,FALSE))","v":0},{"$f":"IF($G19=\"\",\"\",VLOOKUP($G19,Fodermedelstabell!$A$2:$Z$447,20,FALSE))","v":0},{"$f":"IF($G19=\"\",\"\",VLOOKUP($G19,Fodermedelstabell!$A$2:$Z$447,21,FALSE))","v":0},{"$f":"IF($G19=\"\",\"\",VLOOKUP($G19,Fodermedelstabell!$A$2:$Z$447,22,FALSE))","v":0},{"$f":"IF($G19=\"\",\"\",VLOOKUP($G19,Fodermedelstabell!$A$2:$Z$447,23,FALSE))","v":0},{"$f":"IF($G19=\"\",\"\",VLOOKUP($G19,Fodermedelstabell!$A$2:$Z$447,24,FALSE))","v":0},{"$f":"IF($G19=\"\",\"\",VLOOKUP($G19,Fodermedelstabell!$A$2:$Z$447,25,FALSE))","v":0},{"$f":"IF($G19=\"\",\"\",VLOOKUP($G19,Fodermedelstabell!$A$2:$Z$447,26,FALSE))","v":0}]
[null,{"$f":"C20*$L12","v":0},{"$f":"E20*$L11","v":0},0,null,{"$f":"IF($G20=\"\",\"\",VLOOKUP($G20,Fodermedelstabell!$A$2:$Z$447,2,FALSE))","v":0},0,{"$f":"IF($G20=\"\",\"\",VLOOKUP($G20,Fodermedelstabell!$A$2:$Z$447,4,FALSE))","v":0},{"$f":"IF($G20=\"\",\"\",VLOOKUP($G20,Fodermedelstabell!$A$2:$Z$447,5,FALSE))","v":0},{"$f":"IF($G20=\"\",\"\",VLOOKUP($G20,Fodermedelstabell!$A$2:$Z$447,6,FALSE))","v":0},{"$f":"IF($G20=\"\",\"\",VLOOKUP($G20,Fodermedelstabell!$A$2:$Z$447,7,FALSE))","v":0},{"$f":"IF($G20=\"\",\"\",VLOOKUP($G20,Fodermedelstabell!$A$2:$Z$447,8,FALSE))","v":0},{"$f":"IF($G20=\"\",\"\",VLOOKUP($G20,Fodermedelstabell!$A$2:$Z$447,9,FALSE))","v":0},{"$f":"IF($G20=\"\",\"\",VLOOKUP($G20,Fodermedelstabell!$A$2:$Z$447,10,FALSE))","v":0},{"$f":"IF($G20=\"\",\"\",VLOOKUP($G20,Fodermedelstabell!$A$2:$Z$447,11,FALSE))","v":0},{"$f":"IF($G20=\"\",\"\",VLOOKUP($G20,Fodermedelstabell!$A$2:$Z$447,12,FALSE))","v":0},{"$f":"IF($G20=\"\",\"\",VLOOKUP($G20,Fodermedelstabell!$A$2:$Z$447,13,FALSE))","v":0},{"$f":"IF($G20=\"\",\"\",VLOOKUP($G20,Fodermedelstabell!$A$2:$Z$447,14,FALSE))","v":0},{"$f":"IF($G20=\"\",\"\",VLOOKUP($G20,Fodermedelstabell!$A$2:$Z$447,15,FALSE))","v":0},{"$f":"IF($G20=\"\",\"\",VLOOKUP($G20,Fodermedelstabell!$A$2:$Z$447,16,FALSE))","v":0},{"$f":"IF($G20=\"\",\"\",VLOOKUP($G20,Fodermedelstabell!$A$2:$Z$447,17,FALSE))","v":0},{"$f":"IF($G20=\"\",\"\",VLOOKUP($G20,Fodermedelstabell!$A$2:$Z$447,18,FALSE))","v":0},{"$f":"IF($G20=\"\",\"\",VLOOKUP($G20,Fodermedelstabell!$A$2:$Z$447,19,FALSE))","v":0},{"$f":"IF($G20=\"\",\"\",VLOOKUP($G20,Fodermedelstabell!$A$2:$Z$447,20,FALSE))","v":0},{"$f":"IF($G20=\"\",\"\",VLOOKUP($G20,Fodermedelstabell!$A$2:$Z$447,21,FALSE))","v":0},{"$f":"IF($G20=\"\",\"\",VLOOKUP($G20,Fodermedelstabell!$A$2:$Z$447,22,FALSE))","v":0},{"$f":"IF($G20=\"\",\"\",VLOOKUP($G20,Fodermedelstabell!$A$2:$Z$447,23,FALSE))","v":0},{"$f":"IF($G20=\"\",\"\",VLOOKUP($G20,Fodermedelstabell!$A$2:$Z$447,24,FALSE))","v":0},{"$f":"IF($G20=\"\",\"\",VLOOKUP($G20,Fodermedelstabell!$A$2:$Z$447,25,FALSE))","v":0},{"$f":"IF($G20=\"\",\"\",VLOOKUP($G20,Fodermedelstabell!$A$2:$Z$447,26,FALSE))","v":0}]
[null,{"$f":"C21*$L12","v":0},{"$f":"E21*$L11","v":0},0,null,{"$f":"IF($G21=\"\",\"\",VLOOKUP($G21,Fodermedelstabell!$A$2:$Z$447,2,FALSE))","v":0},0,{"$f":"IF($G21=\"\",\"\",VLOOKUP($G21,Fodermedelstabell!$A$2:$Z$447,4,FALSE))","v":0},{"$f":"IF($G21=\"\",\"\",VLOOKUP($G21,Fodermedelstabell!$A$2:$Z$447,5,FALSE))","v":0},{"$f":"IF($G21=\"\",\"\",VLOOKUP($G21,Fodermedelstabell!$A$2:$Z$447,6,FALSE))","v":0},{"$f":"IF($G21=\"\",\"\",VLOOKUP($G21,Fodermedelstabell!$A$2:$Z$447,7,FALSE))","v":0},{"$f":"IF($G21=\"\",\"\",VLOOKUP($G21,Fodermedelstabell!$A$2:$Z$447,8,FALSE))","v":0},{"$f":"IF($G21=\"\",\"\",VLOOKUP($G21,Fodermedelstabell!$A$2:$Z$447,9,FALSE))","v":0},{"$f":"IF($G21=\"\",\"\",VLOOKUP($G21,Fodermedelstabell!$A$2:$Z$447,10,FALSE))","v":0},{"$f":"IF($G21=\"\",\"\",VLOOKUP($G21,Fodermedelstabell!$A$2:$Z$447,11,FALSE))","v":0},{"$f":"IF($G21=\"\",\"\",VLOOKUP($G21,Fodermedelstabell!$A$2:$Z$447,12,FALSE))","v":0},{"$f":"IF($G21=\"\",\"\",VLOOKUP($G21,Fodermedelstabell!$A$2:$Z$447,13,FALSE))","v":0},{"$f":"IF($G21=\"\",\"\",VLOOKUP($G21,Fodermedelstabell!$A$2:$Z$447,14,FALSE))","v":0},{"$f":"IF($G21=\"\",\"\",VLOOKUP($G21,Fodermedelstabell!$A$2:$Z$447,15,FALSE))","v":0},{"$f":"IF($G21=\"\",\"\",VLOOKUP($G21,Fodermedelstabell!$A$2:$Z$447,16,FALSE))","v":0},{"$f":"IF($G21=\"\",\"\",VLOOKUP($G21,Fodermedelstabell!$A$2:$Z$447,17,FALSE))","v":0},{"$f":"IF($G21=\"\",\"\",VLOOKUP($G21,Fodermedelstabell!$A$2:$Z$447,18,FALSE))","v":0},{"$f":"IF($G21=\"\",\"\",VLOOKUP($G21,Fodermedelstabell!$A$2:$Z$447,19,FALSE))","v":0},{"$f":"IF($G21=\"\",\"\",VLOOKUP($G21,Fodermedelstabell!$A$2:$Z$447,20,FALSE))","v":0},{"$f":"IF($G21=\"\",\"\",VLOOKUP($G21,Fodermedelstabell!$A$2:$Z$447,21,FALSE))","v":0},{"$f":"IF($G21=\"\",\"\",VLOOKUP($G21,Fodermedelstabell!$A$2:$Z$447,22,FALSE))","v":0},{"$f":"IF($G21=\"\",\"\",VLOOKUP($G21,Fodermedelstabell!$A$2:$Z$447,23,FALSE))","v":0},{"$f":"IF($G21=\"\",\"\",VLOOKUP($G21,Fodermedelstabell!$A$2:$Z$447,24,FALSE))","v":0},{"$f":"IF($G21=\"\",\"\",VLOOKUP($G21,Fodermedelstabell!$A$2:$Z$447,25,FALSE))","v":0},{"$f":"IF($G21=\"\",\"\",VLOOKUP($G21,Fodermedelstabell!$A$2:$Z$447,26,FALSE))","v":0}]
[null,{"$f":"C22*$L12","v":0},{"$f":"E22*$L11","v":0},0,null,{"$f":"IF($G22=\"\",\"\",VLOOKUP($G22,Fodermedelstabell!$A$2:$Z$447,2,FALSE))","v":0},0,{"$f":"IF($G22=\"\",\"\",VLOOKUP($G22,Fodermedelstabell!$A$2:$Z$447,4,FALSE))","v":0},{"$f":"IF($G22=\"\",\"\",VLOOKUP($G22,Fodermedelstabell!$A$2:$Z$447,5,FALSE))","v":0},{"$f":"IF($G22=\"\",\"\",VLOOKUP($G22,Fodermedelstabell!$A$2:$Z$447,6,FALSE))","v":0},{"$f":"IF($G22=\"\",\"\",VLOOKUP($G22,Fodermedelstabell!$A$2:$Z$447,7,FALSE))","v":0},{"$f":"IF($G22=\"\",\"\",VLOOKUP($G22,Fodermedelstabell!$A$2:$Z$447,8,FALSE))","v":0},{"$f":"IF($G22=\"\",\"\",VLOOKUP($G22,Fodermedelstabell!$A$2:$Z$447,9,FALSE))","v":0},{"$f":"IF($G22=\"\",\"\",VLOOKUP($G22,Fodermedelstabell!$A$2:$Z$447,10,FALSE))","v":0},{"$f":"IF($G22=\"\",\"\",VLOOKUP($G22,Fodermedelstabell!$A$2:$Z$447,11,FALSE))","v":0},{"$f":"IF($G22=\"\",\"\",VLOOKUP($G22,Fodermedelstabell!$A$2:$Z$447,12,FALSE))","v":0},{"$f":"IF($G22=\"\",\"\",VLOOKUP($G22,Fodermedelstabell!$A$2:$Z$447,13,FALSE))","v":0},{"$f":"IF($G22=\"\",\"\",VLOOKUP($G22,Fodermedelstabell!$A$2:$Z$447,14,FALSE))","v":0},{"$f":"IF($G22=\"\",\"\",VLOOKUP($G22,Fodermedelstabell!$A$2:$Z$447,15,FALSE))","v":0},{"$f":"IF($G22=\"\",\"\",VLOOKUP($G22,Fodermedelstabell!$A$2:$Z$447,16,FALSE))","v":0},{"$f":"IF($G22=\"\",\"\",VLOOKUP($G22,Fodermedelstabell!$A$2:$Z$447,17,FALSE))","v":0},{"$f":"IF($G22=\"\",\"\",VLOOKUP($G22,Fodermedelstabell!$A$2:$Z$447,18,FALSE))","v":0},{"$f":"IF($G22=\"\",\"\",VLOOKUP($G22,Fodermedelstabell!$A$2:$Z$447,19,FALSE))","v":0},{"$f":"IF($G22=\"\",\"\",VLOOKUP($G22,Fodermedelstabell!$A$2:$Z$447,20,FALSE))","v":0},{"$f":"IF($G22=\"\",\"\",VLOOKUP($G22,Fodermedelstabell!$A$2:$Z$447,21,FALSE))","v":0},{"$f":"IF($G22=\"\",\"\",VLOOKUP($G22,Fodermedelstabell!$A$2:$Z$447,22,FALSE))","v":0},{"$f":"IF($G22=\"\",\"\",VLOOKUP($G22,Fodermedelstabell!$A$2:$Z$447,23,FALSE))","v":0},{"$f":"IF($G22=\"\",\"\",VLOOKUP($G22,Fodermedelstabell!$A$2:$Z$447,24,FALSE))","v":0},{"$f":"IF($G22=\"\",\"\",VLOOKUP($G22,Fodermedelstabell!$A$2:$Z$447,25,FALSE))","v":0},{"$f":"IF($G22=\"\",\"\",VLOOKUP($G22,Fodermedelstabell!$A$2:$Z$447,26,FALSE))","v":0}]
[null,{"$f":"C23*$L12","v":0},{"$f":"E23*$L11","v":0},0,null,{"$f":"IF($G23=\"\",\"\",VLOOKUP($G23,Fodermedelstabell!$A$2:$Z$447,2,FALSE))","v":0},0,{"$f":"IF($G23=\"\",\"\",VLOOKUP($G23,Fodermedelstabell!$A$2:$Z$447,4,FALSE))","v":0},{"$f":"IF($G23=\"\",\"\",VLOOKUP($G23,Fodermedelstabell!$A$2:$Z$447,5,FALSE))","v":0},{"$f":"IF($G23=\"\",\"\",VLOOKUP($G23,Fodermedelstabell!$A$2:$Z$447,6,FALSE))","v":0},{"$f":"IF($G23=\"\",\"\",VLOOKUP($G23,Fodermedelstabell!$A$2:$Z$447,7,FALSE))","v":0},{"$f":"IF($G23=\"\",\"\",VLOOKUP($G23,Fodermedelstabell!$A$2:$Z$447,8,FALSE))","v":0},{"$f":"IF($G23=\"\",\"\",VLOOKUP($G23,Fodermedelstabell!$A$2:$Z$447,9,FALSE))","v":0},{"$f":"IF($G23=\"\",\"\",VLOOKUP($G23,Fodermedelstabell!$A$2:$Z$447,10,FALSE))","v":0},{"$f":"IF($G23=\"\",\"\",VLOOKUP($G23,Fodermedelstabell!$A$2:$Z$447,11,FALSE))","v":0},{"$f":"IF($G23=\"\",\"\",VLOOKUP($G23,Fodermedelstabell!$A$2:$Z$447,12,FALSE))","v":0},{"$f":"IF($G23=\"\",\"\",VLOOKUP($G23,Fodermedelstabell!$A$2:$Z$447,13,FALSE))","v":0},{"$f":"IF($G23=\"\",\"\",VLOOKUP($G23,Fodermedelstabell!$A$2:$Z$447,14,FALSE))","v":0},{"$f":"IF($G23=\"\",\"\",VLOOKUP($G23,Fodermedelstabell!$A$2:$Z$447,15,FALSE))","v":0},{"$f":"IF($G23=\"\",\"\",VLOOKUP($G23,Fodermedelstabell!$A$2:$Z$447,16,FALSE))","v":0},{"$f":"IF($G23=\"\",\"\",VLOOKUP($G23,Fodermedelstabell!$A$2:$Z$447,17,FALSE))","v":0},{"$f":"IF($G23=\"\",\"\",VLOOKUP($G23,Fodermedelstabell!$A$2:$Z$447,18,FALSE))","v":0},{"$f":"IF($G23=\"\",\"\",VLOOKUP($G23,Fodermedelstabell!$A$2:$Z$447,19,FALSE))","v":0},{"$f":"IF($G23=\"\",\"\",VLOOKUP($G23,Fodermedelstabell!$A$2:$Z$447,20,FALSE))","v":0},{"$f":"IF($G23=\"\",\"\",VLOOKUP($G23,Fodermedelstabell!$A$2:$Z$447,21,FALSE))","v":0},{"$f":"IF($G23=\"\",\"\",VLOOKUP($G23,Fodermedelstabell!$A$2:$Z$447,22,FALSE))","v":0},{"$f":"IF($G23=\"\",\"\",VLOOKUP($G23,Fodermedelstabell!$A$2:$Z$447,23,FALSE))","v":0},{"$f":"IF($G23=\"\",\"\",VLOOKUP($G23,Fodermedelstabell!$A$2:$Z$447,24,FALSE))","v":0},{"$f":"IF($G23=\"\",\"\",VLOOKUP($G23,Fodermedelstabell!$A$2:$Z$447,25,FALSE))","v":0},{"$f":"IF($G23=\"\",\"\",VLOOKUP($G23,Fodermedelstabell!$A$2:$Z$447,26,FALSE))","v":0}]
[null,{"$f":"C24*$L12","v":0},{"$f":"E24*$L11","v":0},0,null,{"$f":"IF($G24=\"\",\"\",VLOOKUP($G24,Fodermedelstabell!$A$2:$Z$447,2,FALSE))","v":0},0,{"$f":"IF($G24=\"\",\"\",VLOOKUP($G24,Fodermedelstabell!$A$2:$Z$447,4,FALSE))","v":0},{"$f":"IF($G24=\"\",\"\",VLOOKUP($G24,Fodermedelstabell!$A$2:$Z$447,5,FALSE))","v":0},{"$f":"IF($G24=\"\",\"\",VLOOKUP($G24,Fodermedelstabell!$A$2:$Z$447,6,FALSE))","v":0},{"$f":"IF($G24=\"\",\"\",VLOOKUP($G24,Fodermedelstabell!$A$2:$Z$447,7,FALSE))","v":0},{"$f":"IF($G24=\"\",\"\",VLOOKUP($G24,Fodermedelstabell!$A$2:$Z$447,8,FALSE))","v":0},{"$f":"IF($G24=\"\",\"\",VLOOKUP($G24,Fodermedelstabell!$A$2:$Z$447,9,FALSE))","v":0},{"$f":"IF($G24=\"\",\"\",VLOOKUP($G24,Fodermedelstabell!$A$2:$Z$447,10,FALSE))","v":0},{"$f":"IF($G24=\"\",\"\",VLOOKUP($G24,Fodermedelstabell!$A$2:$Z$447,11,FALSE))","v":0},{"$f":"IF($G24=\"\",\"\",VLOOKUP($G24,Fodermedelstabell!$A$2:$Z$447,12,FALSE))","v":0},{"$f":"IF($G24=\"\",\"\",VLOOKUP($G24,Fodermedelstabell!$A$2:$Z$447,13,FALSE))","v":0},{"$f":"IF($G24=\"\",\"\",VLOOKUP($G24,Fodermedelstabell!$A$2:$Z$447,14,FALSE))","v":0},{"$f":"IF($G24=\"\",\"\",VLOOKUP($G24,Fodermedelstabell!$A$2:$Z$447,15,FALSE))","v":0},{"$f":"IF($G24=\"\",\"\",VLOOKUP($G24,Fodermedelstabell!$A$2:$Z$447,16,FALSE))","v":0},{"$f":"IF($G24=\"\",\"\",VLOOKUP($G24,Fodermedelstabell!$A$2:$Z$447,17,FALSE))","v":0},{"$f":"IF($G24=\"\",\"\",VLOOKUP($G24,Fodermedelstabell!$A$2:$Z$447,18,FALSE))","v":0},{"$f":"IF($G24=\"\",\"\",VLOOKUP($G24,Fodermedelstabell!$A$2:$Z$447,19,FALSE))","v":0},{"$f":"IF($G24=\"\",\"\",VLOOKUP($G24,Fodermedelstabell!$A$2:$Z$447,20,FALSE))","v":0},{"$f":"IF($G24=\"\",\"\",VLOOKUP($G24,Fodermedelstabell!$A$2:$Z$447,21,FALSE))","v":0},{"$f":"IF($G24=\"\",\"\",VLOOKUP($G24,Fodermedelstabell!$A$2:$Z$447,22,FALSE))","v":0},{"$f":"IF($G24=\"\",\"\",VLOOKUP($G24,Fodermedelstabell!$A$2:$Z$447,23,FALSE))","v":0},{"$f":"IF($G24=\"\",\"\",VLOOKUP($G24,Fodermedelstabell!$A$2:$Z$447,24,FALSE))","v":0},{"$f":"IF($G24=\"\",\"\",VLOOKUP($G24,Fodermedelstabell!$A$2:$Z$447,25,FALSE))","v":0},{"$f":"IF($G24=\"\",\"\",VLOOKUP($G24,Fodermedelstabell!$A$2:$Z$447,26,FALSE))","v":0}]
[null,{"$f":"C25*$L12","v":0},{"$f":"E25*$L11","v":0},0,null,{"$f":"IF($G25=\"\",\"\",VLOOKUP($G25,Fodermedelstabell!$A$2:$Z$447,2,FALSE))","v":0},0,{"$f":"IF($G25=\"\",\"\",VLOOKUP($G25,Fodermedelstabell!$A$2:$Z$447,4,FALSE))","v":0},{"$f":"IF($G25=\"\",\"\",VLOOKUP($G25,Fodermedelstabell!$A$2:$Z$447,5,FALSE))","v":0},{"$f":"IF($G25=\"\",\"\",VLOOKUP($G25,Fodermedelstabell!$A$2:$Z$447,6,FALSE))","v":0},{"$f":"IF($G25=\"\",\"\",VLOOKUP($G25,Fodermedelstabell!$A$2:$Z$447,7,FALSE))","v":0},{"$f":"IF($G25=\"\",\"\",VLOOKUP($G25,Fodermedelstabell!$A$2:$Z$447,8,FALSE))","v":0},{"$f":"IF($G25=\"\",\"\",VLOOKUP($G25,Fodermedelstabell!$A$2:$Z$447,9,FALSE))","v":0},{"$f":"IF($G25=\"\",\"\",VLOOKUP($G25,Fodermedelstabell!$A$2:$Z$447,10,FALSE))","v":0},{"$f":"IF($G25=\"\",\"\",VLOOKUP($G25,Fodermedelstabell!$A$2:$Z$447,11,FALSE))","v":0},{"$f":"IF($G25=\"\",\"\",VLOOKUP($G25,Fodermedelstabell!$A$2:$Z$447,12,FALSE))","v":0},{"$f":"IF($G25=\"\",\"\",VLOOKUP($G25,Fodermedelstabell!$A$2:$Z$447,13,FALSE))","v":0},{"$f":"IF($G25=\"\",\"\",VLOOKUP($G25,Fodermedelstabell!$A$2:$Z$447,14,FALSE))","v":0},{"$f":"IF($G25=\"\",\"\",VLOOKUP($G25,Fodermedelstabell!$A$2:$Z$447,15,FALSE))","v":0},{"$f":"IF($G25=\"\",\"\",VLOOKUP($G25,Fodermedelstabell!$A$2:$Z$447,16,FALSE))","v":0},{"$f":"IF($G25=\"\",\"\",VLOOKUP($G25,Fodermedelstabell!$A$2:$Z$447,17,FALSE))","v":0},{"$f":"IF($G25=\"\",\"\",VLOOKUP($G25,Fodermedelstabell!$A$2:$Z$447,18,FALSE))","v":0},{"$f":"IF($G25=\"\",\"\",VLOOKUP($G25,Fodermedelstabell!$A$2:$Z$447,19,FALSE))","v":0},{"$f":"IF($G25=\"\",\"\",VLOOKUP($G25,Fodermedelstabell!$A$2:$Z$447,20,FALSE))","v":0},{"$f":"IF($G25=\"\",\"\",VLOOKUP($G25,Fodermedelstabell!$A$2:$Z$447,21,FALSE))","v":0},{"$f":"IF($G25=\"\",\"\",VLOOKUP($G25,Fodermedelstabell!$A$2:$Z$447,22,FALSE))","v":0},{"$f":"IF($G25=\"\",\"\",VLOOKUP($G25,Fodermedelstabell!$A$2:$Z$447,23,FALSE))","v":0},{"$f":"IF($G25=\"\",\"\",VLOOKUP($G25,Fodermedelstabell!$A$2:$Z$447,24,FALSE))","v":0},{"$f":"IF($G25=\"\",\"\",VLOOKUP($G25,Fodermedelstabell!$A$2:$Z$447,25,FALSE))","v":0},{"$f":"IF($G25=\"\",\"\",VLOOKUP($G25,Fodermedelstabell!$A$2:$Z$447,26,FALSE))","v":0}]
[null,{"$f":"C26*$L12","v":0},{"$f":"E26*$L11","v":0},0,null,{"$f":"IF($G26=\"\",\"\",VLOOKUP($G26,Fodermedelstabell!$A$2:$Z$447,2,FALSE))","v":0},0,{"$f":"IF($G26=\"\",\"\",VLOOKUP($G26,Fodermedelstabell!$A$2:$Z$447,4,FALSE))","v":0},{"$f":"IF($G26=\"\",\"\",VLOOKUP($G26,Fodermedelstabell!$A$2:$Z$447,5,FALSE))","v":0},{"$f":"IF($G26=\"\",\"\",VLOOKUP($G26,Fodermedelstabell!$A$2:$Z$447,6,FALSE))","v":0},{"$f":"IF($G26=\"\",\"\",VLOOKUP($G26,Fodermedelstabell!$A$2:$Z$447,7,FALSE))","v":0},{"$f":"IF($G26=\"\",\"\",VLOOKUP($G26,Fodermedelstabell!$A$2:$Z$447,8,FALSE))","v":0},{"$f":"IF($G26=\"\",\"\",VLOOKUP($G26,Fodermedelstabell!$A$2:$Z$447,9,FALSE))","v":0},{"$f":"IF($G26=\"\",\"\",VLOOKUP($G26,Fodermedelstabell!$A$2:$Z$447,10,FALSE))","v":0},{"$f":"IF($G26=\"\",\"\",VLOOKUP($G26,Fodermedelstabell!$A$2:$Z$447,11,FALSE))","v":0},{"$f":"IF($G26=\"\",\"\",VLOOKUP($G26,Fodermedelstabell!$A$2:$Z$447,12,FALSE))","v":0},{"$f":"IF($G26=\"\",\"\",VLOOKUP($G26,Fodermedelstabell!$A$2:$Z$447,13,FALSE))","v":0},{"$f":"IF($G26=\"\",\"\",VLOOKUP($G26,Fodermedelstabell!$A$2:$Z$447,14,FALSE))","v":0},{"$f":"IF($G26=\"\",\"\",VLOOKUP($G26,Fodermedelstabell!$A$2:$Z$447,15,FALSE))","v":0},{"$f":"IF($G26=\"\",\"\",VLOOKUP($G26,Fodermedelstabell!$A$2:$Z$447,16,FALSE))","v":0},{"$f":"IF($G26=\"\",\"\",VLOOKUP($G26,Fodermedelstabell!$A$2:$Z$447,17,FALSE))","v":0},{"$f":"IF($G26=\"\",\"\",VLOOKUP($G26,Fodermedelstabell!$A$2:$Z$447,18,FALSE))","v":0},{"$f":"IF($G26=\"\",\"\",VLOOKUP($G26,Fodermedelstabell!$A$2:$Z$447,19,FALSE))","v":0},{"$f":"IF($G26=\"\",\"\",VLOOKUP($G26,Fodermedelstabell!$A$2:$Z$447,20,FALSE))","v":0},{"$f":"IF($G26=\"\",\"\",VLOOKUP($G26,Fodermedelstabell!$A$2:$Z$447,21,FALSE))","v":0},{"$f":"IF($G26=\"\",\"\",VLOOKUP($G26,Fodermedelstabell!$A$2:$Z$447,22,FALSE))","v":0},{"$f":"IF($G26=\"\",\"\",VLOOKUP($G26,Fodermedelstabell!$A$2:$Z$447,23,FALSE))","v":0},{"$f":"IF($G26=\"\",\"\",VLOOKUP($G26,Fodermedelstabell!$A$2:$Z$447,24,FALSE))","v":0},{"$f":"IF($G26=\"\",\"\",VLOOKUP($G26,Fodermedelstabell!$A$2:$Z$447,25,FALSE))","v":0},{"$f":"IF($G26=\"\",\"\",VLOOKUP($G26,Fodermedelstabell!$A$2:$Z$447,26,FALSE))","v":0}]
[null,{"$f":"C27*$L12","v":0},{"$f":"E27*$L11","v":0},0,null,{"$f":"IF($G27=\"\",\"\",VLOOKUP($G27,Fodermedelstabell!$A$2:$Z$447,2,FALSE))","v":0},0,{"$f":"IF($G27=\"\",\"\",VLOOKUP($G27,Fodermedelstabell!$A$2:$Z$447,4,FALSE))","v":0},{"$f":"IF($G27=\"\",\"\",VLOOKUP($G27,Fodermedelstabell!$A$2:$Z$447,5,FALSE))","v":0},{"$f":"IF($G27=\"\",\"\",VLOOKUP($G27,Fodermedelstabell!$A$2:$Z$447,6,FALSE))","v":0},{"$f":"IF($G27=\"\",\"\",VLOOKUP($G27,Fodermedelstabell!$A$2:$Z$447,7,FALSE))","v":0},{"$f":"IF($G27=\"\",\"\",VLOOKUP($G27,Fodermedelstabell!$A$2:$Z$447,8,FALSE))","v":0},{"$f":"IF($G27=\"\",\"\",VLOOKUP($G27,Fodermedelstabell!$A$2:$Z$447,9,FALSE))","v":0},{"$f":"IF($G27=\"\",\"\",VLOOKUP($G27,Fodermedelstabell!$A$2:$Z$447,10,FALSE))","v":0},{"$f":"IF($G27=\"\",\"\",VLOOKUP($G27,Fodermedelstabell!$A$2:$Z$447,11,FALSE))","v":0},{"$f":"IF($G27=\"\",\"\",VLOOKUP($G27,Fodermedelstabell!$A$2:$Z$447,12,FALSE))","v":0},{"$f":"IF($G27=\"\",\"\",VLOOKUP($G27,Fodermedelstabell!$A$2:$Z$447,13,FALSE))","v":0},{"$f":"IF($G27=\"\",\"\",VLOOKUP($G27,Fodermedelstabell!$A$2:$Z$447,14,FALSE))","v":0},{"$f":"IF($G27=\"\",\"\",VLOOKUP($G27,Fodermedelstabell!$A$2:$Z$447,15,FALSE))","v":0},{"$f":"IF($G27=\"\",\"\",VLOOKUP($G27,Fodermedelstabell!$A$2:$Z$447,16,FALSE))","v":0},{"$f":"IF($G27=\"\",\"\",VLOOKUP($G27,Fodermedelstabell!$A$2:$Z$447,17,FALSE))","v":0},{"$f":"IF($G27=\"\",\"\",VLOOKUP($G27,Fodermedelstabell!$A$2:$Z$447,18,FALSE))","v":0},{"$f":"IF($G27=\"\",\"\",VLOOKUP($G27,Fodermedelstabell!$A$2:$Z$447,19,FALSE))","v":0},{"$f":"IF($G27=\"\",\"\",VLOOKUP($G27,Fodermedelstabell!$A$2:$Z$447,20,FALSE))","v":0},{"$f":"IF($G27=\"\",\"\",VLOOKUP($G27,Fodermedelstabell!$A$2:$Z$447,21,FALSE))","v":0},{"$f":"IF($G27=\"\",\"\",VLOOKUP($G27,Fodermedelstabell!$A$2:$Z$447,22,FALSE))","v":0},{"$f":"IF($G27=\"\",\"\",VLOOKUP($G27,Fodermedelstabell!$A$2:$Z$447,23,FALSE))","v":0},{"$f":"IF($G27=\"\",\"\",VLOOKUP($G27,Fodermedelstabell!$A$2:$Z$447,24,FALSE))","v":0},{"$f":"IF($G27=\"\",\"\",VLOOKUP($G27,Fodermedelstabell!$A$2:$Z$447,25,FALSE))","v":0},{"$f":"IF($G27=\"\",\"\",VLOOKUP($G27,Fodermedelstabell!$A$2:$Z$447,26,FALSE))","v":0}]
[null,{"$f":"C28*$L12","v":0},{"$f":"E28*$L11","v":0},0,null,{"$f":"IF($G28=\"\",\"\",VLOOKUP($G28,Fodermedelstabell!$A$2:$Z$447,2,FALSE))","v":0},0,{"$f":"IF($G28=\"\",\"\",VLOOKUP($G28,Fodermedelstabell!$A$2:$Z$447,4,FALSE))","v":0},{"$f":"IF($G28=\"\",\"\",VLOOKUP($G28,Fodermedelstabell!$A$2:$Z$447,5,FALSE))","v":0},{"$f":"IF($G28=\"\",\"\",VLOOKUP($G28,Fodermedelstabell!$A$2:$Z$447,6,FALSE))","v":0},{"$f":"IF($G28=\"\",\"\",VLOOKUP($G28,Fodermedelstabell!$A$2:$Z$447,7,FALSE))","v":0},{"$f":"IF($G28=\"\",\"\",VLOOKUP($G28,Fodermedelstabell!$A$2:$Z$447,8,FALSE))","v":0},{"$f":"IF($G28=\"\",\"\",VLOOKUP($G28,Fodermedelstabell!$A$2:$Z$447,9,FALSE))","v":0},{"$f":"IF($G28=\"\",\"\",VLOOKUP($G28,Fodermedelstabell!$A$2:$Z$447,10,FALSE))","v":0},{"$f":"IF($G28=\"\",\"\",VLOOKUP($G28,Fodermedelstabell!$A$2:$Z$447,11,FALSE))","v":0},{"$f":"IF($G28=\"\",\"\",VLOOKUP($G28,Fodermedelstabell!$A$2:$Z$447,12,FALSE))","v":0},{"$f":"IF($G28=\"\",\"\",VLOOKUP($G28,Fodermedelstabell!$A$2:$Z$447,13,FALSE))","v":0},{"$f":"IF($G28=\"\",\"\",VLOOKUP($G28,Fodermedelstabell!$A$2:$Z$447,14,FALSE))","v":0},{"$f":"IF($G28=\"\",\"\",VLOOKUP($G28,Fodermedelstabell!$A$2:$Z$447,15,FALSE))","v":0},{"$f":"IF($G28=\"\",\"\",VLOOKUP($G28,Fodermedelstabell!$A$2:$Z$447,16,FALSE))","v":0},{"$f":"IF($G28=\"\",\"\",VLOOKUP($G28,Fodermedelstabell!$A$2:$Z$447,17,FALSE))","v":0},{"$f":"IF($G28=\"\",\"\",VLOOKUP($G28,Fodermedelstabell!$A$2:$Z$447,18,FALSE))","v":0},{"$f":"IF($G28=\"\",\"\",VLOOKUP($G28,Fodermedelstabell!$A$2:$Z$447,19,FALSE))","v":0},{"$f":"IF($G28=\"\",\"\",VLOOKUP($G28,Fodermedelstabell!$A$2:$Z$447,20,FALSE))","v":0},{"$f":"IF($G28=\"\",\"\",VLOOKUP($G28,Fodermedelstabell!$A$2:$Z$447,21,FALSE))","v":0},{"$f":"IF($G28=\"\",\"\",VLOOKUP($G28,Fodermedelstabell!$A$2:$Z$447,22,FALSE))","v":0},{"$f":"IF($G28=\"\",\"\",VLOOKUP($G28,Fodermedelstabell!$A$2:$Z$447,23,FALSE))","v":0},{"$f":"IF($G28=\"\",\"\",VLOOKUP($G28,Fodermedelstabell!$A$2:$Z$447,24,FALSE))","v":0},{"$f":"IF($G28=\"\",\"\",VLOOKUP($G28,Fodermedelstabell!$A$2:$Z$447,25,FALSE))","v":0},{"$f":"IF($G28=\"\",\"\",VLOOKUP($G28,Fodermedelstabell!$A$2:$Z$447,26,FALSE))","v":0}]
[null,{"$f":"C29*$L12","v":0},{"$f":"E29*$L11","v":0},0,null,{"$f":"IF($G29=\"\",\"\",VLOOKUP($G29,Fodermedelstabell!$A$2:$Z$447,2,FALSE))","v":0},0,{"$f":"IF($G29=\"\",\"\",VLOOKUP($G29,Fodermedelstabell!$A$2:$Z$447,4,FALSE))","v":0},{"$f":"IF($G29=\"\",\"\",VLOOKUP($G29,Fodermedelstabell!$A$2:$Z$447,5,FALSE))","v":0},{"$f":"IF($G29=\"\",\"\",VLOOKUP($G29,Fodermedelstabell!$A$2:$Z$447,6,FALSE))","v":0},{"$f":"IF($G29=\"\",\"\",VLOOKUP($G29,Fodermedelstabell!$A$2:$Z$447,7,FALSE))","v":0},{"$f":"IF($G29=\"\",\"\",VLOOKUP($G29,Fodermedelstabell!$A$2:$Z$447,8,FALSE))","v":0},{"$f":"IF($G29=\"\",\"\",VLOOKUP($G29,Fodermedelstabell!$A$2:$Z$447,9,FALSE))","v":0},{"$f":"IF($G29=\"\",\"\",VLOOKUP($G29,Fodermedelstabell!$A$2:$Z$447,10,FALSE))","v":0},{"$f":"IF($G29=\"\",\"\",VLOOKUP($G29,Fodermedelstabell!$A$2:$Z$447,11,FALSE))","v":0},{"$f":"IF($G29=\"\",\"\",VLOOKUP($G29,Fodermedelstabell!$A$2:$Z$447,12,FALSE))","v":0},{"$f":"IF($G29=\"\",\"\",VLOOKUP($G29,Fodermedelstabell!$A$2:$Z$447,13,FALSE))","v":0},{"$f":"IF($G29=\"\",\"\",VLOOKUP($G29,Fodermedelstabell!$A$2:$Z$447,14,FALSE))","v":0},{"$f":"IF($G29=\"\",\"\",VLOOKUP($G29,Fodermedelstabell!$A$2:$Z$447,15,FALSE))","v":0},{"$f":"IF($G29=\"\",\"\",VLOOKUP($G29,Fodermedelstabell!$A$2:$Z$447,16,FALSE))","v":0},{"$f":"IF($G29=\"\",\"\",VLOOKUP($G29,Fodermedelstabell!$A$2:$Z$447,17,FALSE))","v":0},{"$f":"IF($G29=\"\",\"\",VLOOKUP($G29,Fodermedelstabell!$A$2:$Z$447,18,FALSE))","v":0},{"$f":"IF($G29=\"\",\"\",VLOOKUP($G29,Fodermedelstabell!$A$2:$Z$447,19,FALSE))","v":0},{"$f":"IF($G29=\"\",\"\",VLOOKUP($G29,Fodermedelstabell!$A$2:$Z$447,20,FALSE))","v":0},{"$f":"IF($G29=\"\",\"\",VLOOKUP($G29,Fodermedelstabell!$A$2:$Z$447,21,FALSE))","v":0},{"$f":"IF($G29=\"\",\"\",VLOOKUP($G29,Fodermedelstabell!$A$2:$Z$447,22,FALSE))","v":0},{"$f":"IF($G29=\"\",\"\",VLOOKUP($G29,Fodermedelstabell!$A$2:$Z$447,23,FALSE))","v":0},{"$f":"IF($G29=\"\",\"\",VLOOKUP($G29,Fodermedelstabell!$A$2:$Z$447,24,FALSE))","v":0},{"$f":"IF($G29=\"\",\"\",VLOOKUP($G29,Fodermedelstabell!$A$2:$Z$447,25,FALSE))","v":0},{"$f":"IF($G29=\"\",\"\",VLOOKUP($G29,Fodermedelstabell!$A$2:$Z$447,26,FALSE))","v":0}]
[null,{"$f":"C30*$L12","v":0},{"$f":"E30*$L11","v":0},0,null,{"$f":"IF($G30=\"\",\"\",VLOOKUP($G30,Fodermedelstabell!$A$2:$Z$447,2,FALSE))","v":0},0,{"$f":"IF($G30=\"\",\"\",VLOOKUP($G30,Fodermedelstabell!$A$2:$Z$447,4,FALSE))","v":0},{"$f":"IF($G30=\"\",\"\",VLOOKUP($G30,Fodermedelstabell!$A$2:$Z$447,5,FALSE))","v":0},{"$f":"IF($G30=\"\",\"\",VLOOKUP($G30,Fodermedelstabell!$A$2:$Z$447,6,FALSE))","v":0},{"$f":"IF($G30=\"\",\"\",VLOOKUP($G30,Fodermedelstabell!$A$2:$Z$447,7,FALSE))","v":0},{"$f":"IF($G30=\"\",\"\",VLOOKUP($G30,Fodermedelstabell!$A$2:$Z$447,8,FALSE))","v":0},{"$f":"IF($G30=\"\",\"\",VLOOKUP($G30,Fodermedelstabell!$A$2:$Z$447,9,FALSE))","v":0},{"$f":"IF($G30=\"\",\"\",VLOOKUP($G30,Fodermedelstabell!$A$2:$Z$447,10,FALSE))","v":0},{"$f":"IF($G30=\"\",\"\",VLOOKUP($G30,Fodermedelstabell!$A$2:$Z$447,11,FALSE))","v":0},{"$f":"IF($G30=\"\",\"\",VLOOKUP($G30,Fodermedelstabell!$A$2:$Z$447,12,FALSE))","v":0},{"$f":"IF($G30=\"\",\"\",VLOOKUP($G30,Fodermedelstabell!$A$2:$Z$447,13,FALSE))","v":0},{"$f":"IF($G30=\"\",\"\",VLOOKUP($G30,Fodermedelstabell!$A$2:$Z$447,14,FALSE))","v":0},{"$f":"IF($G30=\"\",\"\",VLOOKUP($G30,Fodermedelstabell!$A$2:$Z$447,15,FALSE))","v":0},{"$f":"IF($G30=\"\",\"\",VLOOKUP($G30,Fodermedelstabell!$A$2:$Z$447,16,FALSE))","v":0},{"$f":"IF($G30=\"\",\"\",VLOOKUP($G30,Fodermedelstabell!$A$2:$Z$447,17,FALSE))","v":0},{"$f":"IF($G30=\"\",\"\",VLOOKUP($G30,Fodermedelstabell!$A$2:$Z$447,18,FALSE))","v":0},{"$f":"IF($G30=\"\",\"\",VLOOKUP($G30,Fodermedelstabell!$A$2:$Z$447,19,FALSE))","v":0},{"$f":"IF($G30=\"\",\"\",VLOOKUP($G30,Fodermedelstabell!$A$2:$Z$447,20,FALSE))","v":0},{"$f":"IF($G30=\"\",\"\",VLOOKUP($G30,Fodermedelstabell!$A$2:$Z$447,21,FALSE))","v":0},{"$f":"IF($G30=\"\",\"\",VLOOKUP($G30,Fodermedelstabell!$A$2:$Z$447,22,FALSE))","v":0},{"$f":"IF($G30=\"\",\"\",VLOOKUP($G30,Fodermedelstabell!$A$2:$Z$447,23,FALSE))","v":0},{"$f":"IF($G30=\"\",\"\",VLOOKUP($G30,Fodermedelstabell!$A$2:$Z$447,24,FALSE))","v":0},{"$f":"IF($G30=\"\",\"\",VLOOKUP($G30,Fodermedelstabell!$A$2:$Z$447,25,FALSE))","v":0},{"$f":"IF($G30=\"\",\"\",VLOOKUP($G30,Fodermedelstabell!$A$2:$Z$447,26,FALSE))","v":0}]
[null,{"$f":"SUM(B16:B30)","v":0},{"$f":"SUM(C16:C30)","v":0},{"$f":"SUM(D16:D30)","v":0},{"$f":"SUM(E16:E30)","v":0},"Summa/dag",null,{"$f":"H16*$D16+H17*$D17+H18*$D18+H19*$D19+H20*$D20+H21*$D21+H22*$D22+H23*$D23+H24*$D24+H25*$D25+H26*$D26+H27*$D27+H28*$D28+H29*$D29+H30*$D30","v":0},0,0,0,0,0,0,0,0,0,0,0,0,0,0,0,0,0,0,0,0,0,0]
[null,null,null,null,null,"Summa/kgts",null,{"$f":"H31/$D31","v":{"$error":"#DIV/0!"}},{"$f":"D31/E31*100","v":{"$error":"#DIV/0!"}},{"$f":"J31/$D31","v":{"$error":"#DIV/0!"}},{"$error":"#DIV/0!"},{"$error":"#DIV/0!"},{"$error":"#DIV/0!"},{"$error":"#DIV/0!"},{"$error":"#DIV/0!"},{"$error":"#DIV/0!"},{"$error":"#DIV/0!"},{"$error":"#DIV/0!"},{"$error":"#DIV/0!"},{"$error":"#DIV/0!"},{"$error":"#DIV/0!"},{"$error":"#DIV/0!"},{"$error":"#DIV/0!"},{"$error":"#DIV/0!"},{"$error":"#DIV/0!"},{"$error":"#DIV/0!"},{"$error":"#DIV/0!"},{"$error":"#DIV/0!"},{"$error":"#DIV/0!"},{"$error":"#DIV/0!"}]
[]
[null,"Denna foderberäkningssida är gjord av ",null,null,null,null,null,"Parameter",null,null,null,"Värde/dag","NRC","Parameter",null,null,null,"Värde/dag",null,"Parameter",null,null,"Värde/dag"," +/-",null,"Parameter",null,null,"Värde/dag"," +/-"]
[null,"Theo den Braver, Gård & Djurhälsan",null,null,null,null,null,"%Ts i Foderbl.",null,null,null,{"$f":"I32","v":{"$error":"#DIV/0!"}},null,"NDF g/kgts",null,null,null,{"$f":"IF(L31>0,L31/D31,0)","v":0},null,"Ca/p kvot",null,null,{"$f":"IF(Q31>0,Q31/R31,0)","v":0}," 1-2",null,"Cu mg/dag",null,null,{"$f":"Y31","v":0},{"$f":"Y31-Y11","v":0}]
[null,"theo.denbraver@gardochdjurhalsan.se",null,null,null,null,null,"Giva kg ts/dag",null,null,null,{"$f":"D31","v":0},{"$f":"N11","v":0},"Ndf % / lev vikt",null,null,null,{"$f":"(L31/L2)/1000","v":{"$error":"#DIV/0!"}},null,"K/Mg kvot",null,null,{"$f":"IF(S31>0,S31/T31,0)","v":0},"< 5",null,"E-vit mg/dag",null,null,{"$f":"U31","v":0},{"$f":"U31-U11","v":0}]
[null,"070-3933089",null,null,null,null,null,"Mj % av norm",null,null,null,{"$f":"J31/O11","v":{"$error":"#DIV/0!"}},null,"Ts % / lev vikt",null,null,null,{"$f":"(D31)/L2","v":{"$error":"#DIV/0!"}},null,"Ca g/dag",null,null,{"$f":"Q31","v":0},{"$f":"Q31-Q11","v":0},null,"Se mg/dag",null,null,{"$f":"X31","v":0},{"$f":"X31-X11","v":0}]
[null,null,null,null,null,null,null,"AAT % av norm",null,null,null,{"$f":"M31/P11","v":{"$error":"#DIV/0!"}},null,"Råfett %",null,null,null,{"$f":"P31/D31/1000","v":{"$error":"#DIV/0!"}},null,"P g/dag",null,null,{"$f":"R31","v":0},{"$f":"R31-R11","v":0},null,"Co mg/dag",null,null,{"$f":"Z31","v":0},{"$f":"Z31-Z11","v":0}]
[null,null,null,null,null,null,null,"PBV g/dag",null,null,null,{"$f":"N31","v":0},null,"Stärkelse %",null,null,null,{"$f":"O31/D31/1000","v":{"$error":"#DIV/0!"}},null,"K g/dag",null,null,{"$f":"S31","v":0},{"$f":"S31-S11","v":0},null,"Mo mg/dag",null,null,{"$f":"AA31","v":0},{"$f":"AA31-AA11","v":0}]
[null,null,null,null,null,null,null,"Rp g/kgts",null,null,null,{"$f":"K32","v":{"$error":"#DIV/0!"}},null,"Pris kr/dag",null,null,null,{"$f":"H31","v":0},null,"Mg g/dag",null,null,{"$f":"T31","v":0},{"$f":"T31-T11","v":0},null,"Fe mg/dag",null,null,{"$f":"AB31","v":0},{"$f":"AB31-AB11","v":0}]
[null,null,null,null,null,null,null,"Mj g/kgts",null,null,null,{"$f":"J32","v":{"$error":"#DIV/0!"}},{"$f":"M3+M4+M5+M6","v":0},"Pris kr/kg ts",null,null,null,{"$f":"H32","v":{"$error":"#DIV/0!"}},null,"Na g/dag",null,null,{"$f":"V31","v":0},{"$f":"V31-V11","v":0},null,"Mn mg/dag",null,null,{"$f":"AC31","v":0},{"$f":"AC31-AC11","v":0}]
[null,null,null,null,null,null,null,null,null,null,null,{"$f":"(I12*R40)/10","v":{"$error":"#DIV/0!"}},null,"Cu/Mo Kvot >4",null,null,null,{"$f":"AC35/AC39","v":{"$error":"#DIV/0!"}},null,"S g/dag",null,null,{"$f":"W31","v":0},{"$f":"W31-W11","v":0},null,"Zn mg/dag",null,null,{"$f":"AD31","v":0},{"$f":"AD31-AD11","v":0}]

{"sheet":"Data","index":4,"n_rows":43,"n_cols":20,"rows_kept":43,"cut":false,"hidden":true,"merged":[]}
[]
[]
[null,"Underhållsbehovs normer för får / dag"]
[null,null,null,null,"Energi","AAT","Ca","P","K","Mg","E-Vit","Na","S","Se (Krf Diet)","Cu","Co","Mo","Fe","Mn","Zn"]
[null,"vikt",null,null,"Mj","g/dag","g/kgts","g/kgts","g/kgts","g/kgts",null,"g/kgts","g/kgts","mg/kgts","mg/kgts","mg/kgts","mg/kgts","mg/kgts","mg/kgts","mg/kgts"]
[null,1,2,3,4,5,6,7,8,9,10,11,12,13,14,15,16,17,18,19]
["Rekomendationer Nrc 2007 tab 15-2 samt 15-3 samt estimat av Theo"]
["Vikt","Tillväxt","Kons, förmåga\nTab15-3 NRC 2007"," Konc grad\nMj/kg ts","Behov\n Mj/dag","Behov \nAAT g/dag","Behov\n Ca g/dag","Behov\n P g/dag","Behov\n K g/dag","Behov\n Mg g/dag","Behov\n E vit IE/dag","Behov\n Na g/dag","Behov\n S g/dag","Behov (Kfr Diet)\n Se g/dag","Behov\n Cu g/dag","Behov\n Co g/dag","Behov\n Mo g/dag","Behov\n Fe g/dag","Behov\n Mn g/dag","Behov\n Zn g/dag"]
["-",0,0,0,0,0,0,0,0,0,0,0,0,0,0,0,0,0,0,0]
[20,100,0.63,9.1368100000000005,6.1175400000000009,48.469107241037065,2.1500000000000004,1.5,2.9,0.6,200,0.4,1.1000000000000001,0.09,3.1,0.13,null,32,12,13]
[20,150,0.74,9.70181,8.0175899999999984,61.969107241037065,2.8500000000000005,2.1,3.3,0.7,200,0.4,1.3,0.13,4,0.15,null,46,15,17]
[20,200,0.82,10.22681,9.5342900000000004,75.469107241037065,3.5500000000000007,2.7,3.6,0.8,200,0.5,1.5,0.18,4.9000000000000004,0.16,null,61,18,21]
[20,250,0.94,10.72681,11.3,88.969107241037065,4.2500000000000009,3.3000000000000003,4.2,0.9,200,0.5,1.7,0.22,5.8,0.18,null,76,21,25]
[20,300,1.0900000000000001,11.19181,13.064539999999999,102.46910724103707,4.9500000000000011,3.9000000000000004,4.5999999999999996,1,200,0.6,2,0.26,6.6,0.22,null,90,24,29]
[20,350,1.21,11.616810000000001,14.829079999999998,115.96910724103707,5.6500000000000012,4.5,5,1.1000000000000001,200,0.6,2.1,0.28000000000000003,7.5,0.24,null,104,27,33]
[20,400,1.32,12.016810000000001,16.593619999999994,129.46910724103708,6.3500000000000014,5.0999999999999996,5.5,1.2,200,0.7,2.2000000000000002,0.32,8.4,0.26,null,120,30,37]
[]
["-",0,0,0,0,0,0,0,0,0,0,0,0,0,0,0,0,0,0,0]
[30,200,1.1000000000000001,10.585520000000001,11.29157,84.852087483666423,3.7749999999999999,2.9249999999999998,4.8,1,300,0.6,2,0.18,5.5,0.22,null,62,21,24]
[30,250,1.1499999999999999,11.15052,12.274810000000002,97.952087483666418,4.4749999999999996,3.5249999999999999,4.8,1.1000000000000001,300,0.7,2.1,0.22,6.4,0.23,null,77,24,28]
[30,300,1.22,11.675520000000001,14.188990000000002,111.05208748366641,5.1749999999999998,4.125,5.4,1.3,300,0.7,2.2000000000000002,0.26,7.3,0.24,null,91,27,32]
[30,350,1.38,12.175520000000001,16.103170000000002,124.15208748366641,5.875,4.7249999999999996,6,1.4,300,0.8,2.5,0.3,8.1999999999999993,0.27,null,105,30,36]
[30,400,1.55,12.64052,18.027809999999999,137.2520874836664,6.5750000000000002,5.3249999999999993,6.5,1.5,300,0.8,2.8,0.35,9.1,0.31,null,120,33,40]
[30,450,1.7,13.065520000000001,19.941989999999997,150.35208748366639,7.2750000000000004,5.9249999999999989,7,1.6,300,0.9,2.9,0.39,10,0.34,null,135,36,44]
[30,500,1.87,13.465520000000001,21.856169999999999,163.45208748366639,7.9750000000000005,6.5249999999999986,7.5,1.7,300,0.9,3.1,0.43,10.9,0.38,null,150,39,48]
[]
["-",0,0,0,0,0,0,0,0,0,0,0,0,0,0,0,0,0,0,0]
[40,200,1.34,10.7,12.787349999999996,94,4,3.13,5.5,1.2,400,0.7,2.5,0.19,6.3,0.28000000000000003,null,64,23,39]
[40,250,1.44,11.264999999999999,14.460949999999999,107.27995201679411,4.7,3.73,6.3,1.3,400,0.8,2.6,0.23,7.1,0.28999999999999998,null,78,26,45]
[40,300,1.54,11.79,16.134550000000001,120.67995201679412,5.4,4.33,6.7,1.4,400,0.8,2.8,0.27,8,0.31,null,92,29,51]
[40,350,1.58,12.29,17.600000000000001,134.07995201679412,6.1000000000000005,4.93,7,1.6,400,0.9,2.85,0.31,8.8000000000000007,0.31,null,105,32,57]
[40,400,1.62,12.754999999999999,18.875069999999997,147.47995201679413,6.8000000000000007,5.5299999999999994,7.2,1.7,400,1,2.9,0.35,9.6999999999999993,0.32,null,121,36,63]
[40,450,1.8,13.18,20.8,160.87995201679414,7.5000000000000009,6.129999999999999,7.8,1.8,400,1,3.2,0.39,10.6,0.35,null,136,39,69]
[40,500,1.96,13.58,22.755729999999996,174.27995201679414,8.2000000000000011,6.7299999999999986,8.3000000000000007,1.9,400,1.1000000000000001,3.5,0.43,11.5,0.39,null,150,42,75]
[]
["-",0,0,0,0,0,0,0,0,0,0,0,0,0,0,0,0,0,0,0]
[50,200,1.39,10.5,12.9,98,3.86,3.16,7,1.4,500,0.9,2.5,0.18,6.9,0.3,null,65,26,43]
[50,250,1.51,11.12421,15.208840000000002,111.89012417082591,4.7625000000000002,3.8125,7,1.5,500,0.9,2.7,0.23,7.8,0.3,null,79,29,49]
[50,300,1.63,11.724209999999999,17.457740000000001,125.79012417082592,5.6625000000000005,4.4124999999999996,7.7,1.6,500,1,3.1,0.27,8.6,0.35,null,94,32,55]
[50,350,1.75,12.289209999999999,18.582190000000001,139.69012417082592,6.5625000000000009,5.0124999999999993,8,1.7,500,1,3.15,0.31,9.5,0.35,null,107,35,61]
[50,400,1.85,12.814209999999999,19.926299999999998,153.59012417082593,7.4625000000000012,5.6124999999999989,8,1.8,500,1.1000000000000001,3.2,0.35,10.4,0.35,null,123,38,67]
[50,450,1.95,13.314209999999999,21.654291999999995,167.49012417082594,8.3625000000000007,6.2124999999999986,8.5,1.95,500,1.1000000000000001,3.5,0.39,11.3,0.38,null,138,41,73]
[50,500,2.0299999999999998,13.779209999999999,23.618680000000001,181.39012417082594,9.2625000000000011,6.8124999999999982,9,2.1,500,1.2,3.7,0.44,12.2,0.41,null,152,45,79]

{"sheet":"Fodermedelstabell","index":5,"n_rows":338,"n_cols":26,"rows_kept":338,"cut":false,"hidden":true,"merged":[]}
[null,2,3,4,5,6,7,8,9,10,11,12,13,14,15,16,17,18,19,20,21,22,23,24,25,26]
["Nr","Namn","Firma","Pris kr/kgts","Ts %","Energi MJ/kgts","Råprot\nRp/kgts","NDF \ng/kgts","AAT g/kgts","PBV g/kgts","Stärk g/kgts","Råfett g/kgts","Ca\ng/kgts","P\ng/kgts","K\ng/kgts","Mg\ng/kgts","E vit g/kgts","Na\ng/kgts","S\ng/kgts","Se\nmg/kgts","Cu mg/kgts","Co\nmg/kgts","Mo\nmg/kgts","Fe\nmg/kgts","Mn \nmg/kgts","Zn mg/kgts"]
["-","-",null,null,0,0,0,0,0,0,0,0,0,0,0,0,0,0,0,0,0,0,0,0,0,0]
[0,0,null,null,0,0,0,0,0,0,0,0,0,0,0,0,0,0,0,0,0,0,0,0,0,0]
[1,"TOPMILK                             ",null,null,96,17,209,0,0,0,0,136,7.8,7.1,0,1.2,0,0,0,0,0,null,null,null,0,0]
[2,"Åkerbete försommar             ",null,null,20,11,190,480,80,52,0,20,4.5,2.4,22,1.5,120,0.33,1.1000000000000001,1.4E-2,5.9,2.1000000000000001E-2,3.1,65,73,26]
[3,"Åkerbete Högsommar",null,null,20,10.5,170,510,78,36,0,20,4.5,2.4,22,1.5,120,0.33,1.1000000000000001,1.4E-2,5.9,2.1000000000000001E-2,3.1,65,73,26]
[4,"BETE ÅKERM SENSOMMAR                ","                    ",null,20,10.8,210,470,78,74,0,20,5.5,3,0,0,0,0,0,0,0,null,null,null,0,0]
[5,"BETE ÅKERM FÖRVUXET FÖRSOMMAR       ","                    ",null,20,10.1,92,540,76,-38,0,20,5.5,3,0,0,0,0,0,0,0,null,null,null,0,0]
[6,"Vinterbete","                    ",null,20,8,90,585,66,-14,0,20,4.5,2.4,22,1.5,0,0.33,1.1000000000000001,1.4E-2,5.9,2.1000000000000001E-2,3.1,65,73,26]
[7,"Åkerbete vår     ","                    ",null,20,11,140,400,82,40,0,20,4.5,2.4,22,1.5,200,0.33,1.1000000000000001,1.4E-2,5.9,2.1000000000000001E-2,3.1,65,73,26]
[15,"Norm bete Frisk medel",null,null,20,9.6999999999999993,140,560,69,18,null,null,5.5,3]
[16,"Norm bete Frisk Försommar",null,null,20,10.5,150,500,69,18,null,null,5.5,3]
[17,"Norm bete Frisk Högsommar",null,null,20,9.5,140,530,69,18,null,null,5.5,3]
[18,"Norm bete Frisk Sensommar",null,null,20,9,130,560,69,18,null,null,5.5,3]
[19,"Normbete Torr medel",null,null,20,9.3000000000000007,113,570,69,18,null,null,5.5,3]
[20,"Normbete Torr Försommar",null,null,20,10,120,500,69,18,null,null,5.5,3]
[21,"Normbete Torr Högsommar",null,null,20,9,110,540,69,18,null,null,5.5,3]
[22,"Normbete Torr Sensommar",null,null,20,9,110,570,69,18,null,null,5.5,3]
[23,"Normbete Ga Åker medel",null,null,20,10,140,470,69,18,null,null,5.5,3]
[24,"Normbete Ga Åker Försommar",null,null,20,10.5,147,420,69,18,null,null,5.5,3]
[25,"Normbete Ga Åker Högsommar",null,null,20,10,137,440,69,18,null,null,5.5,3]
[26,"Normbete Ga Åker Sen sommar",null,null,20,9.5,137,470,69,18,null,null,5.5,3]
[27,"Åkermarksbete Ram",null,null,20,10.5,170,480,78,36,null,null,5.5,3]
[28,"Naturbete Medel samtliga Perioder",null,null,20,9.6999999999999993,140,500,68,18,null,null,5.5,3]
[29,"Naturbete Försommar",null,null,20,10.3,147,473,69,18,null,null,5.5,3]
[30,"Naturbete Högsommar",null,null,20,9.5,137,503,69,18,null,null,5.5,3]
[31,"Naturbete Sensommar",null,null,20,8.9,137,533,69,18,null,null,5.5,3]
[20,"BETE RAM                            ","                    ",null,20,10.5,170,510,78,36,0,20,5.5,3,0,0,0,0,0,0,0,null,null,null,0,0]
[34,"GRÖNFODER HAVRE.HELA PLANTAN        ","                    ",null,37,9.3000000000000007,127,608,57,11,0,25,4.2,3,24.3,1.7,0,0,0,0,0,null,null,null,0,0]
[35,"GRÖNFODER ÄRT.-VICK..HELA PLAN      ","                    ",null,31,10.1,134,568,65,11,0,30,7.5,3,22.6,2.1,0,0,0,0,0,null,null,null,0,0]
[37,"GRÖNFODER ÄRT.-VICK.-HAVR..HEL      ","                    ",null,31,9,130,555,57,18,0,30,6.3,3,22.5,1.9,0,0,0,0,0,null,null,null,0,0]
[38,"GRÖNFODER GUL SÖTLUPIN. HELA P      ","                    ",null,13,10.1,180,530,66,57,60,30,10.199999999999999,2.6,32,2.2999999999999998,0,0,0,0,0,null,null,null,0,0]
[40,"GRÖNFODER FODERM.KÅL. HELA PLA      ","                    ",null,15,10.6,140,525,71,12,0,30,19,4.3,30,2.8,0,0,0,0,0,null,null,null,0,0]
[43,"GRÖNFODER RAPS. HELA PLANTAN        ","                    ",null,21,11.1,142,520,80,5,0,30,10,2.8,0,0,0,0,0,0,0,null,null,null,0,0]
[46,"GRÖNFODER SOLROS. HELA PLANTAN      ","                    ",null,17,9.8000000000000007,0,525,0,0,0,13,12.2,2.4,0,0,0,0,0,0,0,null,null,null,0,0]
[47,"GRÖNFODER MAJS. HELA PLANTAN        ","                    ",null,26,11,99,492,81,-54,299,23,2.6,2.2999999999999998,11.7,1.3,0,0,0,0,0,null,null,null,0,0]
[60,"BLAST. FÄR DIV. BLASTER             ","                    ",null,14,10.199999999999999,180,530,74,46,0,30,15,2.8,37,3,0,0,0,0,0,null,null,null,0,0]
[61,"BLAST. FÄR FODERBETA                ","                    ",null,12,9.6,0,530,0,0,0,12,12.8,2.2999999999999998,0,0,0,0,0,0,0,null,null,null,0,0]
[62,"BLAST. FÄR FODERSOCKERBETA          ","                    ",null,14,9.5,0,530,0,0,0,15,12.1,2.4,0,0,0,0,0,0,0,null,null,null,0,0]
[69,"BLAST. FÄR SOCKERBETA               ","                    ",null,19,10.1,146,530,69,24,0,30,13,2.7,30,4.0999999999999996,0,0,0,0,0,null,null,null,0,0]
[96,"ENSILAGE GRÖNHAVRE                  ","                    ",null,37,9.1,107,536,58,-8,0,25,4.5,2.9,20.100000000000001,1.4,0,0,0,0,0,null,null,null,0,0]
[97,"ENSILAGE ÄRTER-VICKER               ","                    ",null,31,10,128,499,65,5,0,30,8,2.8,19.600000000000001,2.1,0,0,0,0,0,null,null,null,0,0]
[99,"ENSILAGE ÄRT.-VICK.-GRÖNHAV.        ","                    ",null,31,9,122,535,57,10,0,30,6.2,2.9,20,1.7,0,0,0,0,0,null,null,null,0,0]
[100,"ENSILAGE GUL SÖTLUPIN               ","                    ",null,13,10.1,180,510,66,57,60,30,10.199999999999999,2.6,32,2.2999999999999998,0,0,0,0,0,null,null,null,0,0]
[103,"ENSILAGE FODERM.KÅL                 ","                    ",null,15,10.6,140,500,71,12,0,30,19,4.3,30,2.8,0,0,0,0,0,null,null,null,0,0]
[106,"ENSILAGE RAPS. HELA PLANTAN         ","                    ",null,21,11.1,142,485,80,5,0,30,10,2.8,0,0,0,0,0,0,0,null,null,null,0,0]
[110,"ENSILAGE SOCKERBETSBLAST            ","                    ",null,19,10.1,146,500,69,24,0,30,13,2.7,30,4.0999999999999996,0,0,0,0,0,null,null,null,0,0]
[111,"ENSILAGE MAJS                       ","                    ",null,22,10.4,99,617,78,-45,0,22,6.5,2.5,16,1.3,0,0,0,0,0,null,null,null,0,0]
[112,"ENSILAGE MAJS                       ","                    ",null,35,11.3,90,496,81,-56,355,23,2.4,2.2999999999999998,11.1,1.2,0,0,0,0,0,null,null,null,0,0]
[114,"ENSILAGE HELSÄD. MJÖLKMOGNAD        ","                    ",null,25,9,86,485,0,0,0,15,2,2,0,0,0,0,0,0,0,null,null,null,0,0]
[115,"Helsäd Rågvete","                    ",null,35,10.8,85,490,68,5,300,20,2,2,0,0,0,0,0,0,0,null,null,null,0,0]
[116,"ENSILAGE HELÄRT. FULLMATADE         ","                    ",null,19,12.2,183,530,77,39,160,28,16,3.3,23,3.2,0,0,0,0,0,null,null,null,0,0]
[118,"ENSILAGE DIV. BLAST                 ","                    ",null,14,10.199999999999999,180,535,74,46,0,30,15,2.8,37,3,0,0,0,0,0,null,null,null,0,0]
[120,"GRÖNMASSA BLANDVALL <25% BALJV      ","                    ",null,34,10.9,164,535,71,41,0,20,5.9,2.7,23,1.8,0,0,0,0,0,null,null,null,0,0]
[121,"GRÖNMASSA BLANDVALL <25% BALJV      ","                    ",null,34,10.199999999999999,136,573,69,17,0,20,5.9,2.7,23,1.8,0,0,0,0,0,null,null,null,0,0]
[122,"GRÖNMASSA BLANDVALL <25% BALJV      ","                    ",null,34,9.5,108,620,67,-7,0,20,5.9,2.7,23,1.8,0,0,0,0,0,null,null,null,0,0]
[123,"Ens 1",null,null,30,10.8,147,519,71,25,null,null,4.2,3.4,23.6,1.8,null,0.9,1.8,0.1,6.2,0.1,4.0999999999999996,114,54.5,31.7]
[124,"WW Rajgräs",null,null,61,10.1,166,508,69,47,null,null,4.0999999999999996,3.2,23,1.5,null,0.9,1.8,0.1,6.2,0.1,4.0999999999999996,114,54.5,31.7]
[125,"Ens",null,null,58,10.7,131,524,71,9,null,null,4.0999999999999996,3.2,23,1.5,null,0.9,1.8,0.1,6.2,0.1,4.0999999999999996,114,54.5,31.7]
[131,"Återväxt mkt klöver -21",null,null,38,10.5,180,504,70,41,0,20,5,2.2999999999999998,21.9,2.2999999999999998,0,0.3,1.3,0,0,null,null,null,0,0]
[126,"Ens 3",null,null,48,11.1,184,450,72,60,null,null,4.3,3.1,23,1.3,null,0.9,1.8,0.1,6.2,0.1,4.0999999999999996,114,54.5,31.7]
[127,"Ens 1",null,null,25,10.8,138,533,71,16,null,null,4.2,3.4,23.6,1.8,null,0.9,1.8,0.1,6.2,0.1,4.0999999999999996,114,54.5,31.7]
[128,"Ens 2",null,null,37,10.1,190,465,69,71,null,null,4.2,3.4,23.6,1.8,null,0.9,1.8,0.1,6.2,0.1,4.0999999999999996,114,54.5,31.7]
[129,"Ens 3,2",null,null,27,10.4,192,448,70,70,null,null,4.2,3.4,23.6,1.8,null,0.9,1.8,0.1,6.2,0.1,4.0999999999999996,114,54.5,31.7]
[130,"Ens hö",null,null,49,10.5,102,552,70,-19,null,null,4.2,3.4,23.6,1.8,null,0.9,1.8,0.1,6.2,0.1,4.0999999999999996,114,54.5,31.7]
[140,"Blandvall 1 sk 6-439","Norfor",null,34,11.2,164,472,69,28,0,20,4.0999999999999996,1.9,22,1.8,0,1.5,1.7,0.01,5.5,2.1000000000000001E-2,2,155,49.7,28.3]
[141,"Blandvall ens 1 6-474","Norfor",null,34,11.2,164,472,69,28,0,20,4.0999999999999996,1.9,22,1.8,0,2.4,2.7,0.01,8.6,0.4,3.3,724,104,39.200000000000003]
[142,"Ensilage Blandvall 6-439","Norfor",null,40,10.7,150,474,68,12,0,20,4.0999999999999996,1.9,22,1.8,0,0.3,1.3,0,0,null,null,null,0,0]
[143,"Blandvall 2 sk 6-444","Norfor",null,34,10.4,116,572,67,10,0,20,4.0999999999999996,1.9,22,1.8,0,0.3,1.3,0,0,null,null,null,0,0]
[144,"Blandvall ens 2 6-479","Norfor",null,34,10.4,116,572,67,10,0,20,4.0999999999999996,1.9,22,1.8,0,0,0,0,0,null,null,null,0,0]
[145,"ENSILAGE BLANDVALL 25-50% BAL       ","                    ",null,34,9.4,113,580,67,-1,0,20,7.8,2.7,24,2,0,0,0,0,0,null,null,null,0,0]
[149,"Ens 2-19",null,null,58,10.7,131,524,71,9]
[150,"HÖ BLANDVALL                        ","                    ",null,84,9.8000000000000007,114,605,70,-5,0,20,3.7,2.1,18,1.2,0,0,0,0,0,null,null,null,0,0]
[151,"Timotejhalm","                    ",null,64,7.6,40,682,60,-61,0,12,3.3,1.4,25,1.4,0,0,0,0,0,null,null,null,0,0]
[152,"HÖ BLANDVALL                        ","                    ",null,84,8.4,73,695,61,-31,0,20,3.7,2.1,18,1.2,0,0,0,0,0,null,null,null,0,0]
[153,"Fårex","Lantmännen",null,88,13.1,303,260,144,92,50,78,16,7,13,5,105,0,0,0,0,null,null,null,0,0]
[154,"Sund Ängsull Fårfor","Lantmännen",null,88,13.6,195,220,120,17,330,62,12,4.5,10,3.5,75,0,0,0.4,0,null,null,null,0,0]
[155,"Sund Rejäl Fårfor","Lantmännen",null,88,13.6,195,220,120,17,330,62,12,4.5,10,3.5,75,0,0,100,0,null,null,null,0,0]
[156,"Sund Merax Fårfor","Lantmännen",null,88,14.9,320,160,130,120,139,125,4,5,22,3.3,150,0,0,100,0,null,null,null,0,0]
[157,"Sund Gullviva Nötfor","Lantmännen",null,89,14.9,320,160,130,120,139,125,4,5,22,3.3,150,0,0,0.8,0,null,null,null,0,0]
[158,"Addera Mega 440 Nötfor","Lantmännen",null,89,15.9,440,150,181,171,22,120,4.5,8,16.5,4,0,0,0,0,0,null,null,null,0,0]
[159,"Sund Vässa Mix Nötfor","Lantmännen",null,89,15.8,385,120,170,135,50,140,3.4,6.5,18,2.8,0,0,0,100,0,null,null,null,0,0]
[160,"Tacka Fårfor","Lantmännen ",null,88,13,205,287,115,26,224,52,11,6,9,3,75,0,0,0,0,null,null,null,0,0]
[161,"Lamm 500 Fårfor","Lantmännen",null,88,12.8,220,260,130,20,250,40,12,5,9,3,75,0,0,0,0,null,null,null,0,0]
[162,"Lamm 300 Fårfor","Lantmännen",null,88,12.5,187,299,115,11,205,34,11,5,8,3,75,0,0,null,0,null,null,null,0,0]
[163,"Fiol Vital","Svenska Foder",null,88,13.7,215,250,124,15,230,60,13.8,5.5,11.5,2.6,100,11.5,0,0,0,null,null,null,0,0]
[164,"Fiol Får","Svenska Foder",null,88,13,184,300,100,17,220,52,12.1,4.8,9.3000000000000007,2.2999999999999998,100,10.1,0,0,0,null,null,null,0,0]
[165,"Fiol Blanda","Svenska Foder",null,88,12.6,330,210,165,87,25,54,24,8.5,15,4.0999999999999996,200,23,0,0,0,null,null,null,0,0]
[166,"Mix Blans","Svenska Foder",null,88,5.4,425,180,197,136,25,115,5.3,8,10.7,3.6,0,0.2,0,0,0,null,null,null,0,0]
[167,"Fiol EKO","Svenska Foder",null,88,13.6,207,220,121,17,330,57,13.8,5.5,10,2.6,100,11.5,0,100,0,null,null,null,0,0]
[168,"Eko Balans","Svenska Foder",null,88,16.2,400,110,173,155,55,155,3,5.5,17,3,0,0.1,0,100,0,null,null,null,0,0]
[169,"Edel Får","Spannex, JH, VÄ B F.",null,87,13,180,275,100,0,285,52,13,5.4,9.5,3.4,65,6,0,0,0,null,null,null,0,0]
[170,"Edel Lamm","Spannex, JH, VÄ B F.",null,87,13.6,230,235,112,0,210,58,12,5,12.5,3.2,100,9.1999999999999993,0,0,0,null,null,null,0,0]
[171,"Edel Komet 290","Spannex, JH, VÄ B F.",null,88,13.3,290,275,148,0,80,70,10,7.8,14,5.2,60,5.3,0,0,11,null,null,null,0,0]
[172,"Edel Topp Elton","Spannex, JH, VÄ B F.",null,88,14.8,295,182,123,0,180,95,9.5,7,8.3000000000000007,5.8,60,6,0,100,10.4,null,null,null,0,0]
[173,"Edel Topp Malte","Spannex, JH, VÄ B F.",null,89,15.8,360,180,145,0,105,125,4.4000000000000004,8,11,3,0,0.5,0,100,0,null,null,null,0,0]
[174,"Harmoni U4 Får","Spannex, JH, VÄ B F.",null,87,13.5,190,215,92,0,370,48,11,4.7,9,3.2,65,6,0,100,2.9,null,null,null,0,0]
[175,"Lammfoder Vallberga","Vallberga LM",null,87,13.4,200,206,96,51,286,70,13.7,5.7,15.2,3.7,100,10,null,null,0]
[176,"Fårfoder Vallberga","Vallberga LM",null,87,13.2,178,201,91,35,341,57,13.8,5.8,8.9,3.5,100,10]
[177,"Sheep protein","Hunden och Herden",null,85,10,188,0,0,0,0,0,47,12,0,35,24,71,0,0,0,null,null,null,0,212]
[178,"Vinterlamm","Hunden och Herden",null,85,10,188,0,0,0,0,0,47,0,0,35,24,71,0,0,0,null,null,null,0,294]
[179,"Sheep energy","Hunden och Herden",null,85,12,141,0,0,0,0,0,59,12,0,12,59,47,0,0,0,null,null,null,0,529]
[180,"Bio","Hunden och Herden",null,85,12,0,0,0,0,0,0,59,12,0,35,0,94,0,0,0,null,null,null,0,1]
[181,"Extra Energy","Hunden och Herden",null,83,16,106,0,null,null,0,null,59,6,null,12,588,24,0,null,null,null,null,null,null,353]
[182,"Får Fole","Folekvarn",null,88,12.9,176,230,104,10.199999999999999,null,45,15,5.6,null,null,96.6,11.36,null,null,4.54,null,null,null,null,120]
[183,"Fole Grön 100 KRAV","Folekvarn",null,88,13.75,187.5,230,104,13.6,0,48,7.9,3.9,9,3.4,56]
[184,"Grönfoderpellets","Genevad vallfodertork",null,92,11.1,218,526,76,86,0,0,7.2,2.7,26.2,2]
[185,"Fole Grön Får KRAV",null,null,88,13.75,187,230,104,13.6,null,54,7.9,3.9,null,0,62.5,11.3]
[186,"HALM GRÄS                           ","                    ",null,89,6.9,73,725,47,-35,0,20,3.3,1.4,25,1.4,0,0,0,0,0,null,null,null,0,0]
[187,"Sund Friskus","Lantmännen",null,88,12.8,198,180,105,33,337,62,11.3,7.9,11,3,75]
[188,"Foderhalm","                    ",null,85,6.6,55,740,58,-54,0,0,3.3,1.1000000000000001,0,0,0,0,0,0,0,null,null,null,0,0]
[193,"HALM TORRLUTAD                      ","                    ",null,59,7.9,40,700,63,-74,0,15,3.3,1.3,11,1.3,0,0,0,0,0,null,null,null,0,0]
[194,"HALM AMMO.BEH.                      ","                    ",null,80,8.3000000000000007,119,700,54,4,0,20,3.3,1.1000000000000001,19,1.3,0,0,0,0,0,null,null,null,0,0]
[201,"FODERBETA ROTFRUKTER                ","                    ",null,12,12.5,80,95,87,-71,0,10,2.2999999999999998,1.6,15,1.3,0,0,0,0,0,null,null,null,0,0]
[202,"FODSOCKERB ROTFRUKTER               ","                    ",null,16,12.7,60,95,90,-93,0,10,2.2999999999999998,1.6,15,1.3,0,0,0,0,0,null,null,null,0,0]
[203,"KÅLROT ROTFRUKTER                   ","                    ",null,12,12.4,105,440,90,-53,0,10,5.2,3.6,30,1.5,0,0,0,0,0,null,null,null,0,0]
[204,"MOROT ROTFRUKTER                    ","                    ",null,12,12.1,105,90,88,-49,0,10,3.3,2.8,28,2,0,0,0,0,0,null,null,null,0,0]
[205,"POTATIS ROTFRUKTER                  ","                    ",null,23,13.1,90,73,92,-70,740,10,0.3,2.2999999999999998,22,1.4,0,0,0,0,0,null,null,null,0,0]
[206,"ROVA ROTFRUKTER                     ","                    ",null,9,10.9,120,100,79,-21,0,10,4.2,2.8,18,1,0,0,0,0,0,null,null,null,0,0]
[207,"SOCKERBETA ROTFRUKTER               ","                    ",null,24,12.8,60,100,92,-99,0,10,2.2000000000000002,1.4,10,1.2,0,0,0,0,0,null,null,null,0,0]
[210,"HP-MASSA DANISCO SUGAR              ","                    ",null,27,12.8,108,448,100,-68,5,8,8.8000000000000007,0.8,135,1.4,0,0,0,0,0,null,null,null,0,0]
[213,"BETFOR DANISCO SUGAR                ","                    ",null,91,12.5,111,334,97,-56,0,7,9.5,0.7,21,1.3,0,0,0,0,0,null,null,null,0,0]
[214,"BETMELASS DANISCO SUGAR             ","                    ",null,75,12.4,131,0,76,3,0,0,2,0.2,45,0.1,0,0,0,0,0,null,null,null,0,0]
[215,"MP-MASSA DANISCO SUGAR              ","                    ",null,14,11.8,107,465,89,-45,0,10,7,1,6,1.4,0,0,0,0,0,null,null,null,0,0]
[216,"TRÄMELASS (FLYTANDE)                ","                    ",null,50,12.4,10,0,85,-133,0,10,5.6,0.9,6,1,0,0,0,0,0,null,null,null,0,0]
[218,"DRANK POTATIS-                      ","                    ",null,6,11.4,200,495,94,52,0,7,2.8,7.3,55,0,0,0,0,0,0,null,null,null,0,0]
[219,"DRANK SÄDES-                        ","                    ",null,7,12.5,300,465,72,184,0,120,"2.5",7.5,1,2,0,0,0,0,0,null,null,null,0,0]
[220,"DRAV Spendrup","                    ",null,22.6,11.6,255,460,141,20,100,89,2,5.5,1,2,0,".3",0,0,0,null,null,null,0,0]
[221,"DRAV TORKAD. LÅG PROT.HAL           ","                    ",null,90,11.6,240,460,141,20,100,80,2,5.5,1,2,0,0,0,0,0,null,null,null,0,0]
[223,"DRAV TORKAD. HÖG PROT.HAL           ","                    ",null,90,11.8,280,483,155,40,0,80,2,5.5,1,1.5,0,0,0,0,0,null,null,null,0,0]
[224,"JÄST BRYGGERI                       ","                    ",null,90,14.6,500,350,110,332,0,10,2.2000000000000002,15.6,24,2.6,0,0,0,0,0,null,null,null,0,0]
[225,"MALTGRODDA KORN                     ","                    ",null,86,12.2,351,422,84,174,50,36,2.6,8.8000000000000007,22,2,0,0,0,0,0,null,null,null,0,0]
[226,"POTATISPUL                          ","                    ",null,14,10.8,160,250,95,-7,300,5,2,2.9,5,2.4,0,0,0,0,0,null,null,null,0,0]
[228,"SOCKERSNIT                          ","                    ",null,90,12.2,111,340,0,0,0,10,5.7,1,0,0,0,0,0,0,0,null,null,null,0,0]
[229,"POLYGLYKOS                          ","                    ",null,30,12.2,0,0,84,-141,0,0,5,4,0,0,0,0,0,0,0,null,null,null,0,0]
[230,"DRANK SKÅNE                         ","                    ",null,5,9,0,470,83,29,0,0,0,0,0,0,0,0,0,0,0,null,null,null,0,0]
[232,"ÖVRIGT VASSLE. FÄRSK                ","                    ",null,7,13.6,120,0,82,-18,0,10,7.2,7.9,24,1.4,0,0,0,0,0,null,null,null,0,0]
[233,"ÖVRIGT VASSLE. TORKAD               ","                    ",null,90,10.7,120,0,0,0,0,10,2.8,8.9,0,0,0,0,0,0,0,null,null,null,0,0]
[234,"AKOFEEDKAL KARLSHAMNS CRUSHING      ","                    ",null,96,27.2,0,0,0,0,0,850,90,0,0,0,0,0,0,0,0,null,null,null,0,0]
[235,"AKOFEED GIGANT                      ","                    ",null,99,27.8,0,0,0,0,0,999,0,0,0,0,0,0,0,0,0,null,null,null,0,0]
[240,"BLANDSÄD KÄRNA. HAVRE/KORN          ","                    ",null,84,12.4,116,294,78,-16,434,43,0.6,4,5.6,1.3,0,0,0,0,0,null,null,null,0,0]
[242,"HAVRE KÄRNA                         ","                    ",null,85,11.7,110,358,67,-2,338,61,0.7,3.7,5.3,1.2,0,0,0,0,0,null,null,null,0,0]
[244,"HAVRE SKAL                          ","                    ",null,87,5.2,30,780,0,0,130,20,1.2,4.4000000000000004,6,1,0,0,0,0,0,null,null,null,0,0]
[246,"KORN Kärna      ","                    ",null,87,13.3,124,229,90,-29,518,27,0.4,4,5.9,1.3,0,0,0,0,0,null,null,null,0,0]
[248,"KORN KLI                            ","                    ",null,87,10.3,140,550,70,28,0,50,1.1000000000000001,8,0,0,0,0,0,0,0,null,null,null,0,0]
[249,"MAJS KÄRNA                          ","                    ",null,87,14.6,100,94,122,-89,710,50,0.4,3.1,4,1.3,0,0,0,0,0,null,null,null,0,0]
[250,"SORGHUM KÄRNA                       ","                    ",null,87,14.4,120,230,145,-99,749,30,0.5,3.1,4,1.4,0,0,0,0,0,null,null,null,0,0]
[251,"RÅG KÄRNA                           ","                    ",null,87,13.9,100,136,95,-57,640,20,0.5,3.6,5,1.2,0,0,0,0,0,null,null,null,0,0]
[252,"RÅG KLI                             ","                    ",null,87,11.6,160,325,78,34,167,40,1.1000000000000001,11.1,16,3.5,0,0,0,0,0,null,null,null,0,0]
[253,"VETE KÄRNA                          ","                    ",null,87,14.1,121,138,95,-33,644,25,0.3,3.7,4.7,1.3,0,0,0,0,0,null,null,null,0,0]
[254,"VETE GRODDAR                        ","                    ",null,87,15.8,300,50,99,150,224,90,1.3,11.2,12,3.1,0,0,0,0,0,null,null,null,0,0]
[255,"VETE KLI                            ","                    ",null,87,11,160,464,73,36,210,45,1.7,12,12,5.3,0,0,0,0,0,null,null,null,0,0]
[256,"VETE FODERMJÖL                      ","                    ",null,88,13.5,210,329,88,70,0,60,0.9,10,0,0,0,0,0,0,0,null,null,null,0,0]
[257,"RÅGVETE KÄRNA                       ","                    ",null,87,14,123,148,95,-31,609,26,0.4,4,5.4,1.4,0,0,0,0,0,null,null,null,0,0]
[270,"SOJA MJÖL                           ","                    ",null,87,14.6,510,95,182,261,62,10,3.2,7.2,23,2.7,0,0,0,0,0,null,null,null,0,0]
[271,"SOJA BÖNA                           ","                    ",null,87,16.399999999999999,400,101,69,273,150,180,2.6,6.3,19,2.8,0,0,0,0,0,null,null,null,0,0]
[272,"VICKER KÄRNA                        ","                    ",null,87,13.9,300,100,101,141,0,20,1.5,5.2,0,0,0,0,0,0,0,null,null,null,0,0]
[273,"ÅKERBÖNA KÄRNA                      ","                    ",null,87,13.2,292,100,81,140,420,15,2.7,5.2,12.8,1.6,0,0,0,0,0,null,null,null,0,0]
[274,"ÄRTER MAT/FODER KÄRNA               ","                    ",null,87,13.9,239,100,98,80,550,17,0.8,4.3,11,1.3,0,0,1.8,0,0,null,null,null,0,0]
[275,"SÖTLUPIN FRÖ. GUL                   ","                    ",null,87,13.6,453,263,139,265,220,49,3.6,7.5,14,3.1,0,0,0,0,0,null,null,null,0,0]
[293,"KOKOS EXPELLER                      ","                    ",null,94,14.7,223,388,125,32,6,113,1.4,5.4,21,3.3,0,0,0,0,0,null,null,null,0,0]
[294,"KOKOS MJÖL                          ","                    ",null,92,12,260,580,153,26,19,10,1.4,6.4,23,3.6,0,0,0,0,0,null,null,null,0,0]
[295,"LIN FRÖ                             ","                    ",null,93,20.100000000000001,240,140,51,154,54,380,2.8,5.7,9,3.9,0,0,0,0,0,null,null,null,0,0]
[296,"LIN FRÖ EXPELLER                    ","                    ",null,90,16.2,297,465,78,178,26,198,3.7,8.6,11,5.2,0,0,0,0,0,null,null,null,0,0]
[297,"LIN FRÖMJÖL                         ","                    ",null,90,12.5,400,30,151,175,26,20,3.9,8.8000000000000007,11,5.2,0,0,0,0,0,null,null,null,0,0]
[298,"LINFRÖ- KAKA                        ","                    ",null,90,16.3,315,460,64,217,54,200,3.3,8.3000000000000007,11,5.2,0,0,0,0,0,null,null,null,0,0]
[299,"RAPS- KAKA                          ","                    ",null,94,15.6,315,300,89,180,10,174,8,11,13,5,0,0,0,0,0,null,null,null,0,0]
[300,"Raps Drank 60/40","                    ",null,89,12.7,370,270,140,116,16,63,4.5,9,11,4,0,0,0,0,0,null,null,null,0,0]
[301,"Rapsmjöl Nöt,  (Rapsmjöl 200)      ","                    ",null,88,12.6,380,280,162,140,12,55,7.5,11.5,12,5.4,0,0,0,0,0,null,null,null,0,0]
[302,"Ex Pro Raps","                    ",null,89,12.4,390,300,210,80,9,42,8,11.8,13.5,5,0,0,0,0,0,null,null,null,0,0]
[303,"MAJSGLUTEN MJÖL                     ","                    ",null,92,16,672,140,476,82,150,24,0.4,3.3,1,1.2,0,0,0,0,0,null,null,null,0,0]
[304,"RAPS EXPRO-KAKA 215 E               ","                    ",null,93,15.5,339,300,171,87,10,169,7.2,13.7,13,4.0999999999999996,0,0,0,0,0,null,null,null,0,0]
[335,"Galant Grov","SVENSKA LANTMÄNNEN  ",null,88,11.7,170,350,100,11,230,45,14,5,8.3000000000000007,2.8,75,0,0,0.4,0,null,null,null,0,0]
[336,"Komplett Grov (Nöt)","SVENSKA LANTMÄNNEN  ",null,88,12.6,193,318,113,null,239,45,8,4.5,9.3000000000000007,4,30,null,null,0.3,7.5]
[337,"Rosa grönmix (nöt)","Svenska Foder",null,88,12.8,184,398,107,9,115,60,6.2,5.5,10,4.5999999999999996,50,5,null,0.4,10]
[338,"Tuva Grov","Svenska Foder",null,88,12.2,145,450,88,0,190,68,5.7,5.5,10,2.1,0,4,null,0,0]
[339,"Tuva Snabb","Svenska Foder",null,88,13.6,195,290,108,25,260,65,7.5,5,8,2.8,0,1.1000000000000001,null,0,0]
[340,"Tuva Fiber (Nöt)","Svenska Foder",null,88,13,175,325,112,0,250,70,6.8,5.5,10,4.5999999999999996,50,5,null,0.4,10]
[341,"Glänsa Tacka Fiber","Swedish Agro",null,88,11.9,170,368,86,30,225,56,12.4,5.9,11.6,4.5,85,null,null,0.45,10]
[342,"Grunda Fiber (Nöt)","Swedish Agro",null,88,13.1,190,343,120,5,200,70,7,7,9.4,4.3,40,null,null,0.4,10]
[343,"Glänsa NDF (Nöt)","Swedish Agro",null,88,12.2,185,340,104,7,250,47,14,7,9.3000000000000007,3.6,55,null,null,0.45,10]
[344,"Glänsa Kviga (Nöt)","Swedish Agro",null,88,12,170,343,102,7,223,58,13.1,6.1,9.6,4,40,null,null,0.4,10]
[345,"Ko Fiber Grund (Mjöl)","Vallberga LM",null,90,11.8,160,445,104,-5,107,44,6.9,5.4,12.6,2.8,0,null,null,0,0]
[346,"Ko Fiber Bas (NÖT)","Vallberga LM",null,89,13,175,330,101,24,230,73,7.9,5.8,9.6999999999999993,4.5,30,null,null,0.45,15]
[347,"Ko Fiber 190","Vallberga LM",null,89,12.8,190,320,104,25,223,65,7.8,6.2,9.8000000000000007,4.5,30,null,null,0.45,15]
[348,"Ung Energi (Nöt)","Vallberga LM",null,87,13.4,200,220,91,65,285,69,16,6.6,10.199999999999999,3.4,19,null,null,0.5,15]
[350,"Edel Nova Vall 1","Ab Johan Hansson/Forsbäck/Spannfod/västerbottens fodercentral",null,88,13.2,175,365,118,5,195,55,6.7,5.5,null,4.5,40,null,null,0.4,7]
[351,"Edel Nova Vall 2","Ab Johan Hansson/Forsbäck/Spannfod/västerbottens fodercentral",null,88,13.4,189,322,120,9,202,57,6.7,5.5,null,4.5,40,null,null,0.4,7]
[352,"Stjärna Grön (Nöt)","KLF",null,89,12.7,174,429,110,2,156,61,8.4499999999999993,6,null,4.5,45,0.7,null,0.56000000000000005,11.6]
[184,"Grönfoderpellets","Genevad vallfodertork",null,92,11.1,218,500,76,86,0,0,7.2,2.7,26.2,2]
[353,"Luzernpellets","Div Leverantörer",null,90,10,182,390,70,61,0,0,17,3,28,2.2000000000000002,null,1.4]
[600,"FODERKALK                           ","Standard",null,98,0,0,0,0,0,0,0,380,0,0,0,0,0,0,0,0,null,null,null,null,0]
[601,"Tekonmin Fårmineral Utan Cu","Spannex, JH, VÄ B F.",null,98,0,0,0,0,0,0,0,125,70,0,75,4000,70,0,100,0,null,null,null,null,4000]
[602,"Tekonmin Fårmineral Med Cu","Spannex, JH, VÄ B F.",null,98,0,0,0,0,0,0,0,125,70,0,75,4000,70,0,100,200,null,null,null,null,4000]
[603,"Jermin Får Med Cu","Spannex, JH, VÄ B F.",null,98,0,0,0,0,0,0,0,125,70,0,75,4000,70,0.5,0,250,null,null,null,null,4000]
[604,"Jermin Får Utan Cu","Spannex, JH, VÄ B F.",null,98,0,0,0,0,0,0,0,125,70,0,75,4000,70,0.5,0,0,null,null,null,null,4000]
[605,"Jermin Slikk Balja Utan Cu","Spannex, JH, VÄ B F.",null,98,0,0,0,0,0,0,0,120,80,0,80,0,100,0.3,0,0,null,null,null,null,5000]
[606,"Jermin Slikk Balja Med Cu","Spannex, JH, VÄ B F.",null,98,0,0,0,0,0,0,0,120,80,0,80,0,100,0.3,0,200,null,null,null,null,5000]
[607,"Effekt mineralbalja  CU 170824","Lantmännen          ",null,98,0,0,0,0,0,0,0,100,60,0,70,5000,30,5,0,250,null,null,null,null,5000]
[608,"Effekt mineralbalja utan Cu 170824","Lantmännen          ",null,98,0,0,0,0,0,0,0,100,60,0,70,5000,30,5,0,0,null,null,null,null,5000]
[609,"Deltamin Får med CU","Svenska Foder",null,98,0,0,0,0,0,0,0,150,45,0,80,4000,90,5,0,200,null,null,null,null,5000]
[610,"Deltamin Får Utan CU","Svenska Foder",null,98,0,0,0,0,0,0,0,150,45,0,80,4000,90,5,0,0,null,null,null,null,5000]
[611,"Deltamin Får Slick","Svenska Foder",null,98,0,0,0,0,0,0,0,130,45,0,80,0,100,0,0,0,null,null,null,0,5000]
[612,"Easylick High Energi","Svenska Foder",null,82.5,10.4,180,0,null,null,0,50,35,4,0,30,500,20,0,0,0,null,null,null,0,150]
[613,"VM Pälsfår Vitamineral","Vilomix",null,98,0,0,0,0,0,0,0,60,100,0,100,5000,100,20,45,300,45,null,null,4000,7500]
[614,"VM Köttfår Vitamineral","Vilomix",null,98,0,0,0,0,0,0,0,110,75,0,75,5000,100,11,null,150,null,null,null,0,7500]
[615,"VM Får Fullfoder Vitamineral","Vilomix",null,98,0,0,0,0,0,0,0,112,70,0,70,2500,100,20,0,300,null,null,null,0,7500]
[616,"BM Får Vitamineral","Vilomix",null,98,0,0,0,0,0,0,0,150,50,0,80,3000,100,null,100,0,null,null,null,0,5500]
[617,"salt",null,null,98,null,null,null,null,null,null,null,null,null,null,null,null,390,null,null,null,null,null,null,0]
[618,"Effekt får med Cu Röd","Lantmännen",null,98,0,0,0,0,0,0,0,133,61,1.3,72,5000,113,6,30,250,50,null,null,1500,5010]
[619,"Effekt får utan Cu Grön","Lantmännen",null,98,0,0,0,0,0,0,0,135,62,1.3,71,5000,111,6,45,0,null,null,null,0,5010]
[620,"Effekt Lamma med Cu               ","Lantmännen",null,98,0,0,0,0,0,0,0,133,78,1.4,102,15000,70,5,45,250,50,null,null,1500,5010]
[621,"Effekt Lamma Utan Cu              ","Lantmännen",null,98,0,0,0,0,0,0,0,130,75,1.3,102,15000,70,6.7,45,0,null,null,null,0,0]
[622,"Mineralbalja STD","Hunden och Herden",null,85,0,0,0,0,0,0,0,94,47,0,59,235,118,0,0,0,null,null,null,0,2118]
[623,"Mineralbalja Cu","Hunden och Herden",null,85,0,0,0,0,0,0,0,94,24,0,59,235,118,0,0,294,null,null,null,0,2353]
[624,"PoelVit Block","SlättöKvarn",null,84,0,107,0,0,0,0,0,119,42,0,72,1000,89,0,0,0,null,null,null,0,0]
[625,"BelFood Blok","SlättöKvarn",null,84,0,142,0,0,0,0,0,95,18,0,47,62,18,0,0,0,null,null,null,0,600]
[626,"Wiromineral Får","Wiromin",null,98,0,0,0,0,0,0,0,147.9591836734694,66.326530612244895,0,71.428571428571431,4081.6326530612246,61.224489795918366,5.1020408163265305,0,408.16326530612247,null,null,null,null,7142.8571428571431]
[627,"Ekomin får","Wiromin",null,98,0,0,0,0,0,0,0,158.16326530612247,40.816326530612244,0,76.530612244897952,4081.6326530612246,66.326530612244895,15.306122448979592,0,255.10204081632654,null,null,null,null,7142.8571428571431]
[628,"Wiroslick Får","Wiromin",null,98,0,0,0,0,0,0,0,102.04081632653062,51.020408163265309,0,71.428571428571431,3061.2244897959181,67.346938775510196,0,0,255.10204081632654,null,null,null,null,4591.8367346938776]
[629,"Feet Fertility & Worms","3 Lammproducenter",null,85,null,null,null,null,null,null,null,94,24,null,2,588,null,null,null,null,null,null,null,0,8235]
[630,"Energyze Vitality","3 Lammproducenter",null,85,null,188,21,null,null,null,21,67,null,null,5,588,24,null,null,null,null,null,null,0,1568]
[631,"Energyze Forage Booster","3 Lammproducenter",null,85,null,188,16,null,null,null,20,71,null,null,4,588,59,null,null,null,null,null,null,0]
[632,"Minerlahink 3 LP","3 Lammproducenter",null,85,null,null,null,null,null,null,null,118,24,null,59,294,88,null,null,null,null,null,null,0,4902]
[633,"Foderblock Extra Energy 3 LP","3 Lammproducenter",null,85,14,188,32,null,null,null,47,53,6,null,24,588,26,null,null,null,null,null,null,0,1634]
[634,"Pre tupping 3 LP","3 Lammproducenter",null,85,null,null,null,null,null,null,null,129,47,null,2846,588,88,null,null,null,null,null,null,0,3921]
[635,"SweetCorn 3 LP","3 Lammproducenter",null,85,16,141,12,null,null,null,24,53,2,null,4,1176,24,null,null,null,null,null,null,0,2614]
[636,"Mineral hink 3 LP EKO","3 Lammproducenter",null,85,null,null,null,null,null,null,null,94,24,null,59,79,94,null,null,null,null,null,null,0,5228]
[639,"Gårdsmineral ","WIROMIN AB          ",null,96,0,0,0,0,0,0,0,100,121,0,160,17000,40,50,50,800,55,0,null,3000,7000]
[640,"Gårdsmineral Vinter/vår","WIROMIN AB          ",null,96,0,0,0,0,0,0,0,100,140,0,160,17000,40,50,50,500,55,0,null,3000,7000]
[641,"Gårdsmineral Sommar/Höst","WIROMIN AB          ",null,96,0,0,0,0,0,0,0,100,140,0,160,5000,40,15,50,800,55,null,null,3000,7000]
[998,"Vatten",null,null,1.0000000000000001E-5]
[1019,"E-vitamin",null,null,96,null,null,null,null,null,null,null,null,null,null,null,20000,null,null,45]
[1020,"salt",null,null,98,null,null,null,null,null,null,null,null,null,null,null,null,390]
[2020]
[2021]
[2022]
[2023]
[2024]
[2025]
[2026]
[2027]
[2028]
[2029]
[2030]
[2031]
[2032]
[2033]
[2034]
[2035]
[2036]
[2037]
[2038]
[2039]
[2040]
[]
[]
[]
[]
[]
[]
[]
[]
[]
[]
[]
[]
[]
[]
[]
[]
[]
[]
[]
[]
[]
[]
[]
[]
[]
[]
[]
[]
[]
[]
[]
[]
[]
[]
[]
[]
[]
[]
[]
[]
[]
[]
[]
[998,"Vatten",null,null,1.0000000000000001E-5]
[1019,"E-vitamin",null,null,96,null,null,null,null,null,null,null,null,null,null,null,20000,null,null,45]
[1020,"salt",null,null,98,null,null,null,null,null,null,null,null,null,null,null,null,390]
[2021,"Ens 1",null,null,45,11.2,160,530,72,15,0,20,4.5,2.2999999999999998,22,2.1,null,0.1,1.5]
[2022,"Ens 2",null,null,35,11,170,420,74,35]
[2023]
[2024]
[2025]
[2026]
[2027]
[2028]
[2029]
[2030]
[2031]
[2032]
[2033]
[2034]
[2035]
[2036]
[2037]
[2038]
[2039]
[2040]
[2041]
[2042]
[2043]
[2044]
[2045]
[2046]
[2047]
[2048]
[2049]
[2050]
[2051]
[2052]
[2053]
[2054]
[2055]
[2056]